BEGIN:VCALENDAR
VERSION:2.0
PRODID:-//Grace Lutheran Church Brooklyn - ECPv6.15.20//NONSGML v1.0//EN
CALSCALE:GREGORIAN
METHOD:PUBLISH
X-ORIGINAL-URL:https://gracebk.org
X-WR-CALDESC:Events for Grace Lutheran Church Brooklyn
REFRESH-INTERVAL;VALUE=DURATION:PT1H
X-Robots-Tag:noindex
X-PUBLISHED-TTL:PT1H
BEGIN:VTIMEZONE
TZID:America/New_York
BEGIN:DAYLIGHT
TZOFFSETFROM:-0500
TZOFFSETTO:-0400
TZNAME:EDT
DTSTART:20270314T070000
END:DAYLIGHT
BEGIN:STANDARD
TZOFFSETFROM:-0400
TZOFFSETTO:-0500
TZNAME:EST
DTSTART:20271107T060000
END:STANDARD
BEGIN:DAYLIGHT
TZOFFSETFROM:-0500
TZOFFSETTO:-0400
TZNAME:EDT
DTSTART:20280312T070000
END:DAYLIGHT
BEGIN:STANDARD
TZOFFSETFROM:-0400
TZOFFSETTO:-0500
TZNAME:EST
DTSTART:20281105T060000
END:STANDARD
BEGIN:DAYLIGHT
TZOFFSETFROM:-0500
TZOFFSETTO:-0400
TZNAME:EDT
DTSTART:20290311T070000
END:DAYLIGHT
BEGIN:STANDARD
TZOFFSETFROM:-0400
TZOFFSETTO:-0500
TZNAME:EST
DTSTART:20291104T060000
END:STANDARD
END:VTIMEZONE
BEGIN:VEVENT
DTSTART;TZID=America/New_York:20280903T103000
DTEND;TZID=America/New_York:20280903T130000
DTSTAMP:20260423T041231
CREATED:20260322T034753Z
LAST-MODIFIED:20260322T041111Z
UID:10002599-1851589800-1851598800@gracebk.org
SUMMARY:Sunday Mass
DESCRIPTION:Join us for worship is the heart of our church life at Grace Lutheran Church Brooklyn. We gather together each Sunday to celebrate God’s grace through a blend of traditional hymns and contemporary worship music\, led by our talented musicians and choir. Music is a powerful way to connect with God\, and we invite all members of the congregation to join in singing\, regardless of musical ability. Our worship services are designed to foster a deep spiritual connection and to inspire all who attend to reflect on God’s word.
URL:https://gracebk.org/event/sunday-mass-4-2/2028-09-03/
LOCATION:939 83rd Street\, Brooklyn\, NY 11228
CATEGORIES:Sunday Mass
ATTACH;FMTTYPE=image/jpeg:https://gracebk.org/wp-content/uploads/2026/02/Sunday-Worship-Service.jpg
ORGANIZER;CN="Grace Lutheran Church of Brooklyn":MAILTO:connect@gracebk.org
END:VEVENT
BEGIN:VEVENT
DTSTART;TZID=America/New_York:20280903T113000
DTEND;TZID=America/New_York:20280903T130000
DTSTAMP:20260423T041231
CREATED:20260322T033832Z
LAST-MODIFIED:20260322T034151Z
UID:10002336-1851593400-1851598800@gracebk.org
SUMMARY:Coffee Hour
DESCRIPTION:Fellowship and refreshments following worship.
URL:https://gracebk.org/event/coffee-hour-2/2028-09-03/
LOCATION:939 83rd Street\, Brooklyn\, NY 11228
CATEGORIES:Coffee Hour
ATTACH;FMTTYPE=image/jpeg:https://gracebk.org/wp-content/uploads/2026/02/631726258_1329460442541900_4547997787373663264_n.jpg
ORGANIZER;CN="Grace Lutheran Church of Brooklyn":MAILTO:connect@gracebk.org
END:VEVENT
BEGIN:VEVENT
DTSTART;TZID=America/New_York:20280906T110000
DTEND;TZID=America/New_York:20280906T130000
DTSTAMP:20260423T041231
CREATED:20260322T030003Z
LAST-MODIFIED:20260322T030003Z
UID:10001010-1851850800-1851858000@gracebk.org
SUMMARY:Hybrid Bible Study (Zoom)
DESCRIPTION:Join us for an open and thoughtful space for adults to gather around God’s Word\, along with the wisdom found in other sacred texts. Through conversation\, study\, and prayer\, we seek a deeper understanding of Scripture and its place in our daily lives. Join us in person at the church or virtually via Zoom\, as Bible Study is offered in a hybrid format to fit your schedule and comfort.
URL:https://gracebk.org/event/hybrid-bible-study-zoom-15-2/2028-09-06/
LOCATION:939 83rd Street\, Brooklyn\, NY 11228
ATTACH;FMTTYPE=image/png:https://gracebk.org/wp-content/uploads/2025/07/D5.png
ORGANIZER;CN="Grace Lutheran Church of Brooklyn":MAILTO:connect@gracebk.org
END:VEVENT
BEGIN:VEVENT
DTSTART;TZID=America/New_York:20280906T173000
DTEND;TZID=America/New_York:20280906T190000
DTSTAMP:20260423T041231
CREATED:20260322T030528Z
LAST-MODIFIED:20260322T030528Z
UID:10000739-1851874200-1851879600@gracebk.org
SUMMARY:Confirmation Class
DESCRIPTION:A time of growth\, questions\, and commitment for middle and high school students\, lasting two years and running from September through June. Together\, we explore what it means to live out our baptismal promises with intention and faith.
URL:https://gracebk.org/event/confirmation-class-2/2028-09-06/
LOCATION:939 83rd Street\, Brooklyn\, NY 11228
CATEGORIES:Confirmation Class
ATTACH;FMTTYPE=image/png:https://gracebk.org/wp-content/uploads/2025/07/D4.png
ORGANIZER;CN="Grace Lutheran Church of Brooklyn":MAILTO:connect@gracebk.org
END:VEVENT
BEGIN:VEVENT
DTSTART;TZID=America/New_York:20280910T094000
DTEND;TZID=America/New_York:20280910T130000
DTSTAMP:20260423T041231
CREATED:20260322T023407Z
LAST-MODIFIED:20260322T030349Z
UID:10001282-1852191600-1852203600@gracebk.org
SUMMARY:Sunday School (Grades 1–5)
DESCRIPTION:A joyful space where children and youth are invited to explore the Bible through stories\, lessons\, and hands-on activities. Rooted in Lutheran teaching\, each session helps young hearts grow in faith and community.
URL:https://gracebk.org/event/sunday-school/2028-09-10/
LOCATION:939 83rd Street\, Brooklyn\, NY 11228
CATEGORIES:Sunday School
ATTACH;FMTTYPE=image/png:https://gracebk.org/wp-content/uploads/2025/07/D2.png
ORGANIZER;CN="Grace Lutheran Church of Brooklyn":MAILTO:connect@gracebk.org
END:VEVENT
BEGIN:VEVENT
DTSTART;TZID=America/New_York:20280910T103000
DTEND;TZID=America/New_York:20280910T130000
DTSTAMP:20260423T041231
CREATED:20260322T034753Z
LAST-MODIFIED:20260322T041111Z
UID:10002600-1852194600-1852203600@gracebk.org
SUMMARY:Sunday Mass
DESCRIPTION:Join us for worship is the heart of our church life at Grace Lutheran Church Brooklyn. We gather together each Sunday to celebrate God’s grace through a blend of traditional hymns and contemporary worship music\, led by our talented musicians and choir. Music is a powerful way to connect with God\, and we invite all members of the congregation to join in singing\, regardless of musical ability. Our worship services are designed to foster a deep spiritual connection and to inspire all who attend to reflect on God’s word.
URL:https://gracebk.org/event/sunday-mass-4-2/2028-09-10/
LOCATION:939 83rd Street\, Brooklyn\, NY 11228
CATEGORIES:Sunday Mass
ATTACH;FMTTYPE=image/jpeg:https://gracebk.org/wp-content/uploads/2026/02/Sunday-Worship-Service.jpg
ORGANIZER;CN="Grace Lutheran Church of Brooklyn":MAILTO:connect@gracebk.org
END:VEVENT
BEGIN:VEVENT
DTSTART;TZID=America/New_York:20280910T113000
DTEND;TZID=America/New_York:20280910T130000
DTSTAMP:20260423T041231
CREATED:20260322T033832Z
LAST-MODIFIED:20260322T034151Z
UID:10002337-1852198200-1852203600@gracebk.org
SUMMARY:Coffee Hour
DESCRIPTION:Fellowship and refreshments following worship.
URL:https://gracebk.org/event/coffee-hour-2/2028-09-10/
LOCATION:939 83rd Street\, Brooklyn\, NY 11228
CATEGORIES:Coffee Hour
ATTACH;FMTTYPE=image/jpeg:https://gracebk.org/wp-content/uploads/2026/02/631726258_1329460442541900_4547997787373663264_n.jpg
ORGANIZER;CN="Grace Lutheran Church of Brooklyn":MAILTO:connect@gracebk.org
END:VEVENT
BEGIN:VEVENT
DTSTART;TZID=America/New_York:20280913T110000
DTEND;TZID=America/New_York:20280913T130000
DTSTAMP:20260423T041231
CREATED:20260322T030003Z
LAST-MODIFIED:20260322T030003Z
UID:10001011-1852455600-1852462800@gracebk.org
SUMMARY:Hybrid Bible Study (Zoom)
DESCRIPTION:Join us for an open and thoughtful space for adults to gather around God’s Word\, along with the wisdom found in other sacred texts. Through conversation\, study\, and prayer\, we seek a deeper understanding of Scripture and its place in our daily lives. Join us in person at the church or virtually via Zoom\, as Bible Study is offered in a hybrid format to fit your schedule and comfort.
URL:https://gracebk.org/event/hybrid-bible-study-zoom-15-2/2028-09-13/
LOCATION:939 83rd Street\, Brooklyn\, NY 11228
ATTACH;FMTTYPE=image/png:https://gracebk.org/wp-content/uploads/2025/07/D5.png
ORGANIZER;CN="Grace Lutheran Church of Brooklyn":MAILTO:connect@gracebk.org
END:VEVENT
BEGIN:VEVENT
DTSTART;TZID=America/New_York:20280913T173000
DTEND;TZID=America/New_York:20280913T190000
DTSTAMP:20260423T041231
CREATED:20260322T030528Z
LAST-MODIFIED:20260322T030528Z
UID:10000740-1852479000-1852484400@gracebk.org
SUMMARY:Confirmation Class
DESCRIPTION:A time of growth\, questions\, and commitment for middle and high school students\, lasting two years and running from September through June. Together\, we explore what it means to live out our baptismal promises with intention and faith.
URL:https://gracebk.org/event/confirmation-class-2/2028-09-13/
LOCATION:939 83rd Street\, Brooklyn\, NY 11228
CATEGORIES:Confirmation Class
ATTACH;FMTTYPE=image/png:https://gracebk.org/wp-content/uploads/2025/07/D4.png
ORGANIZER;CN="Grace Lutheran Church of Brooklyn":MAILTO:connect@gracebk.org
END:VEVENT
BEGIN:VEVENT
DTSTART;TZID=America/New_York:20280916T183000
DTEND;TZID=America/New_York:20280916T193000
DTSTAMP:20260423T041231
CREATED:20260322T030912Z
LAST-MODIFIED:20260322T030912Z
UID:10000535-1852741800-1852745400@gracebk.org
SUMMARY:Young Adults Gathering (Grades 5-9)
DESCRIPTION:Join us for young adults to connect\, share\, and grow. Each gathering includes Bible study\, meaningful conversation\, service opportunities\, and community-building.
URL:https://gracebk.org/event/young-adults-gathering-7-2/2028-09-16/
LOCATION:939 83rd Street\, Brooklyn\, NY 11228
ATTACH;FMTTYPE=image/png:https://gracebk.org/wp-content/uploads/2025/07/D6.png
ORGANIZER;CN="Grace Lutheran Church of Brooklyn":MAILTO:connect@gracebk.org
END:VEVENT
BEGIN:VEVENT
DTSTART;TZID=America/New_York:20280917T094000
DTEND;TZID=America/New_York:20280917T130000
DTSTAMP:20260423T041231
CREATED:20260322T023407Z
LAST-MODIFIED:20260322T030349Z
UID:10001283-1852796400-1852808400@gracebk.org
SUMMARY:Sunday School (Grades 1–5)
DESCRIPTION:A joyful space where children and youth are invited to explore the Bible through stories\, lessons\, and hands-on activities. Rooted in Lutheran teaching\, each session helps young hearts grow in faith and community.
URL:https://gracebk.org/event/sunday-school/2028-09-17/
LOCATION:939 83rd Street\, Brooklyn\, NY 11228
CATEGORIES:Sunday School
ATTACH;FMTTYPE=image/png:https://gracebk.org/wp-content/uploads/2025/07/D2.png
ORGANIZER;CN="Grace Lutheran Church of Brooklyn":MAILTO:connect@gracebk.org
END:VEVENT
BEGIN:VEVENT
DTSTART;TZID=America/New_York:20280917T103000
DTEND;TZID=America/New_York:20280917T130000
DTSTAMP:20260423T041231
CREATED:20260322T034753Z
LAST-MODIFIED:20260322T041111Z
UID:10002601-1852799400-1852808400@gracebk.org
SUMMARY:Sunday Mass
DESCRIPTION:Join us for worship is the heart of our church life at Grace Lutheran Church Brooklyn. We gather together each Sunday to celebrate God’s grace through a blend of traditional hymns and contemporary worship music\, led by our talented musicians and choir. Music is a powerful way to connect with God\, and we invite all members of the congregation to join in singing\, regardless of musical ability. Our worship services are designed to foster a deep spiritual connection and to inspire all who attend to reflect on God’s word.
URL:https://gracebk.org/event/sunday-mass-4-2/2028-09-17/
LOCATION:939 83rd Street\, Brooklyn\, NY 11228
CATEGORIES:Sunday Mass
ATTACH;FMTTYPE=image/jpeg:https://gracebk.org/wp-content/uploads/2026/02/Sunday-Worship-Service.jpg
ORGANIZER;CN="Grace Lutheran Church of Brooklyn":MAILTO:connect@gracebk.org
END:VEVENT
BEGIN:VEVENT
DTSTART;TZID=America/New_York:20280917T113000
DTEND;TZID=America/New_York:20280917T130000
DTSTAMP:20260423T041231
CREATED:20260322T033832Z
LAST-MODIFIED:20260322T034151Z
UID:10002338-1852803000-1852808400@gracebk.org
SUMMARY:Coffee Hour
DESCRIPTION:Fellowship and refreshments following worship.
URL:https://gracebk.org/event/coffee-hour-2/2028-09-17/
LOCATION:939 83rd Street\, Brooklyn\, NY 11228
CATEGORIES:Coffee Hour
ATTACH;FMTTYPE=image/jpeg:https://gracebk.org/wp-content/uploads/2026/02/631726258_1329460442541900_4547997787373663264_n.jpg
ORGANIZER;CN="Grace Lutheran Church of Brooklyn":MAILTO:connect@gracebk.org
END:VEVENT
BEGIN:VEVENT
DTSTART;TZID=America/New_York:20280920T110000
DTEND;TZID=America/New_York:20280920T130000
DTSTAMP:20260423T041231
CREATED:20260322T030003Z
LAST-MODIFIED:20260322T030003Z
UID:10001012-1853060400-1853067600@gracebk.org
SUMMARY:Hybrid Bible Study (Zoom)
DESCRIPTION:Join us for an open and thoughtful space for adults to gather around God’s Word\, along with the wisdom found in other sacred texts. Through conversation\, study\, and prayer\, we seek a deeper understanding of Scripture and its place in our daily lives. Join us in person at the church or virtually via Zoom\, as Bible Study is offered in a hybrid format to fit your schedule and comfort.
URL:https://gracebk.org/event/hybrid-bible-study-zoom-15-2/2028-09-20/
LOCATION:939 83rd Street\, Brooklyn\, NY 11228
ATTACH;FMTTYPE=image/png:https://gracebk.org/wp-content/uploads/2025/07/D5.png
ORGANIZER;CN="Grace Lutheran Church of Brooklyn":MAILTO:connect@gracebk.org
END:VEVENT
BEGIN:VEVENT
DTSTART;TZID=America/New_York:20280920T173000
DTEND;TZID=America/New_York:20280920T190000
DTSTAMP:20260423T041231
CREATED:20260322T030528Z
LAST-MODIFIED:20260322T030528Z
UID:10000741-1853083800-1853089200@gracebk.org
SUMMARY:Confirmation Class
DESCRIPTION:A time of growth\, questions\, and commitment for middle and high school students\, lasting two years and running from September through June. Together\, we explore what it means to live out our baptismal promises with intention and faith.
URL:https://gracebk.org/event/confirmation-class-2/2028-09-20/
LOCATION:939 83rd Street\, Brooklyn\, NY 11228
CATEGORIES:Confirmation Class
ATTACH;FMTTYPE=image/png:https://gracebk.org/wp-content/uploads/2025/07/D4.png
ORGANIZER;CN="Grace Lutheran Church of Brooklyn":MAILTO:connect@gracebk.org
END:VEVENT
BEGIN:VEVENT
DTSTART;TZID=America/New_York:20280924T094000
DTEND;TZID=America/New_York:20280924T130000
DTSTAMP:20260423T041231
CREATED:20260322T023407Z
LAST-MODIFIED:20260322T030349Z
UID:10001284-1853401200-1853413200@gracebk.org
SUMMARY:Sunday School (Grades 1–5)
DESCRIPTION:A joyful space where children and youth are invited to explore the Bible through stories\, lessons\, and hands-on activities. Rooted in Lutheran teaching\, each session helps young hearts grow in faith and community.
URL:https://gracebk.org/event/sunday-school/2028-09-24/
LOCATION:939 83rd Street\, Brooklyn\, NY 11228
CATEGORIES:Sunday School
ATTACH;FMTTYPE=image/png:https://gracebk.org/wp-content/uploads/2025/07/D2.png
ORGANIZER;CN="Grace Lutheran Church of Brooklyn":MAILTO:connect@gracebk.org
END:VEVENT
BEGIN:VEVENT
DTSTART;TZID=America/New_York:20280924T103000
DTEND;TZID=America/New_York:20280924T130000
DTSTAMP:20260423T041231
CREATED:20260322T034753Z
LAST-MODIFIED:20260322T041111Z
UID:10002602-1853404200-1853413200@gracebk.org
SUMMARY:Sunday Mass
DESCRIPTION:Join us for worship is the heart of our church life at Grace Lutheran Church Brooklyn. We gather together each Sunday to celebrate God’s grace through a blend of traditional hymns and contemporary worship music\, led by our talented musicians and choir. Music is a powerful way to connect with God\, and we invite all members of the congregation to join in singing\, regardless of musical ability. Our worship services are designed to foster a deep spiritual connection and to inspire all who attend to reflect on God’s word.
URL:https://gracebk.org/event/sunday-mass-4-2/2028-09-24/
LOCATION:939 83rd Street\, Brooklyn\, NY 11228
CATEGORIES:Sunday Mass
ATTACH;FMTTYPE=image/jpeg:https://gracebk.org/wp-content/uploads/2026/02/Sunday-Worship-Service.jpg
ORGANIZER;CN="Grace Lutheran Church of Brooklyn":MAILTO:connect@gracebk.org
END:VEVENT
BEGIN:VEVENT
DTSTART;TZID=America/New_York:20280924T113000
DTEND;TZID=America/New_York:20280924T130000
DTSTAMP:20260423T041231
CREATED:20260322T033832Z
LAST-MODIFIED:20260322T034151Z
UID:10002339-1853407800-1853413200@gracebk.org
SUMMARY:Coffee Hour
DESCRIPTION:Fellowship and refreshments following worship.
URL:https://gracebk.org/event/coffee-hour-2/2028-09-24/
LOCATION:939 83rd Street\, Brooklyn\, NY 11228
CATEGORIES:Coffee Hour
ATTACH;FMTTYPE=image/jpeg:https://gracebk.org/wp-content/uploads/2026/02/631726258_1329460442541900_4547997787373663264_n.jpg
ORGANIZER;CN="Grace Lutheran Church of Brooklyn":MAILTO:connect@gracebk.org
END:VEVENT
BEGIN:VEVENT
DTSTART;TZID=America/New_York:20280927T110000
DTEND;TZID=America/New_York:20280927T130000
DTSTAMP:20260423T041231
CREATED:20260322T030003Z
LAST-MODIFIED:20260322T030003Z
UID:10001013-1853665200-1853672400@gracebk.org
SUMMARY:Hybrid Bible Study (Zoom)
DESCRIPTION:Join us for an open and thoughtful space for adults to gather around God’s Word\, along with the wisdom found in other sacred texts. Through conversation\, study\, and prayer\, we seek a deeper understanding of Scripture and its place in our daily lives. Join us in person at the church or virtually via Zoom\, as Bible Study is offered in a hybrid format to fit your schedule and comfort.
URL:https://gracebk.org/event/hybrid-bible-study-zoom-15-2/2028-09-27/
LOCATION:939 83rd Street\, Brooklyn\, NY 11228
ATTACH;FMTTYPE=image/png:https://gracebk.org/wp-content/uploads/2025/07/D5.png
ORGANIZER;CN="Grace Lutheran Church of Brooklyn":MAILTO:connect@gracebk.org
END:VEVENT
BEGIN:VEVENT
DTSTART;TZID=America/New_York:20280927T173000
DTEND;TZID=America/New_York:20280927T190000
DTSTAMP:20260423T041231
CREATED:20260322T030528Z
LAST-MODIFIED:20260322T030528Z
UID:10000742-1853688600-1853694000@gracebk.org
SUMMARY:Confirmation Class
DESCRIPTION:A time of growth\, questions\, and commitment for middle and high school students\, lasting two years and running from September through June. Together\, we explore what it means to live out our baptismal promises with intention and faith.
URL:https://gracebk.org/event/confirmation-class-2/2028-09-27/
LOCATION:939 83rd Street\, Brooklyn\, NY 11228
CATEGORIES:Confirmation Class
ATTACH;FMTTYPE=image/png:https://gracebk.org/wp-content/uploads/2025/07/D4.png
ORGANIZER;CN="Grace Lutheran Church of Brooklyn":MAILTO:connect@gracebk.org
END:VEVENT
BEGIN:VEVENT
DTSTART;TZID=America/New_York:20280930T183000
DTEND;TZID=America/New_York:20280930T193000
DTSTAMP:20260423T041231
CREATED:20260322T030912Z
LAST-MODIFIED:20260322T030912Z
UID:10000536-1853951400-1853955000@gracebk.org
SUMMARY:Young Adults Gathering (Grades 5-9)
DESCRIPTION:Join us for young adults to connect\, share\, and grow. Each gathering includes Bible study\, meaningful conversation\, service opportunities\, and community-building.
URL:https://gracebk.org/event/young-adults-gathering-7-2/2028-09-30/
LOCATION:939 83rd Street\, Brooklyn\, NY 11228
ATTACH;FMTTYPE=image/png:https://gracebk.org/wp-content/uploads/2025/07/D6.png
ORGANIZER;CN="Grace Lutheran Church of Brooklyn":MAILTO:connect@gracebk.org
END:VEVENT
BEGIN:VEVENT
DTSTART;TZID=America/New_York:20281001T094000
DTEND;TZID=America/New_York:20281001T130000
DTSTAMP:20260423T041231
CREATED:20260322T023407Z
LAST-MODIFIED:20260322T030349Z
UID:10001285-1854006000-1854018000@gracebk.org
SUMMARY:Sunday School (Grades 1–5)
DESCRIPTION:A joyful space where children and youth are invited to explore the Bible through stories\, lessons\, and hands-on activities. Rooted in Lutheran teaching\, each session helps young hearts grow in faith and community.
URL:https://gracebk.org/event/sunday-school/2028-10-01/
LOCATION:939 83rd Street\, Brooklyn\, NY 11228
CATEGORIES:Sunday School
ATTACH;FMTTYPE=image/png:https://gracebk.org/wp-content/uploads/2025/07/D2.png
ORGANIZER;CN="Grace Lutheran Church of Brooklyn":MAILTO:connect@gracebk.org
END:VEVENT
BEGIN:VEVENT
DTSTART;TZID=America/New_York:20281001T103000
DTEND;TZID=America/New_York:20281001T130000
DTSTAMP:20260423T041231
CREATED:20260322T034753Z
LAST-MODIFIED:20260322T041111Z
UID:10002603-1854009000-1854018000@gracebk.org
SUMMARY:Sunday Mass
DESCRIPTION:Join us for worship is the heart of our church life at Grace Lutheran Church Brooklyn. We gather together each Sunday to celebrate God’s grace through a blend of traditional hymns and contemporary worship music\, led by our talented musicians and choir. Music is a powerful way to connect with God\, and we invite all members of the congregation to join in singing\, regardless of musical ability. Our worship services are designed to foster a deep spiritual connection and to inspire all who attend to reflect on God’s word.
URL:https://gracebk.org/event/sunday-mass-4-2/2028-10-01/
LOCATION:939 83rd Street\, Brooklyn\, NY 11228
CATEGORIES:Sunday Mass
ATTACH;FMTTYPE=image/jpeg:https://gracebk.org/wp-content/uploads/2026/02/Sunday-Worship-Service.jpg
ORGANIZER;CN="Grace Lutheran Church of Brooklyn":MAILTO:connect@gracebk.org
END:VEVENT
BEGIN:VEVENT
DTSTART;TZID=America/New_York:20281001T113000
DTEND;TZID=America/New_York:20281001T130000
DTSTAMP:20260423T041231
CREATED:20260322T033832Z
LAST-MODIFIED:20260322T034151Z
UID:10002340-1854012600-1854018000@gracebk.org
SUMMARY:Coffee Hour
DESCRIPTION:Fellowship and refreshments following worship.
URL:https://gracebk.org/event/coffee-hour-2/2028-10-01/
LOCATION:939 83rd Street\, Brooklyn\, NY 11228
CATEGORIES:Coffee Hour
ATTACH;FMTTYPE=image/jpeg:https://gracebk.org/wp-content/uploads/2026/02/631726258_1329460442541900_4547997787373663264_n.jpg
ORGANIZER;CN="Grace Lutheran Church of Brooklyn":MAILTO:connect@gracebk.org
END:VEVENT
BEGIN:VEVENT
DTSTART;TZID=America/New_York:20281004T110000
DTEND;TZID=America/New_York:20281004T130000
DTSTAMP:20260423T041231
CREATED:20260322T030003Z
LAST-MODIFIED:20260322T030003Z
UID:10001014-1854270000-1854277200@gracebk.org
SUMMARY:Hybrid Bible Study (Zoom)
DESCRIPTION:Join us for an open and thoughtful space for adults to gather around God’s Word\, along with the wisdom found in other sacred texts. Through conversation\, study\, and prayer\, we seek a deeper understanding of Scripture and its place in our daily lives. Join us in person at the church or virtually via Zoom\, as Bible Study is offered in a hybrid format to fit your schedule and comfort.
URL:https://gracebk.org/event/hybrid-bible-study-zoom-15-2/2028-10-04/
LOCATION:939 83rd Street\, Brooklyn\, NY 11228
ATTACH;FMTTYPE=image/png:https://gracebk.org/wp-content/uploads/2025/07/D5.png
ORGANIZER;CN="Grace Lutheran Church of Brooklyn":MAILTO:connect@gracebk.org
END:VEVENT
BEGIN:VEVENT
DTSTART;TZID=America/New_York:20281004T173000
DTEND;TZID=America/New_York:20281004T190000
DTSTAMP:20260423T041231
CREATED:20260322T030528Z
LAST-MODIFIED:20260322T030528Z
UID:10000743-1854293400-1854298800@gracebk.org
SUMMARY:Confirmation Class
DESCRIPTION:A time of growth\, questions\, and commitment for middle and high school students\, lasting two years and running from September through June. Together\, we explore what it means to live out our baptismal promises with intention and faith.
URL:https://gracebk.org/event/confirmation-class-2/2028-10-04/
LOCATION:939 83rd Street\, Brooklyn\, NY 11228
CATEGORIES:Confirmation Class
ATTACH;FMTTYPE=image/png:https://gracebk.org/wp-content/uploads/2025/07/D4.png
ORGANIZER;CN="Grace Lutheran Church of Brooklyn":MAILTO:connect@gracebk.org
END:VEVENT
BEGIN:VEVENT
DTSTART;TZID=America/New_York:20281008T094000
DTEND;TZID=America/New_York:20281008T130000
DTSTAMP:20260423T041231
CREATED:20260322T023407Z
LAST-MODIFIED:20260322T030349Z
UID:10001286-1854610800-1854622800@gracebk.org
SUMMARY:Sunday School (Grades 1–5)
DESCRIPTION:A joyful space where children and youth are invited to explore the Bible through stories\, lessons\, and hands-on activities. Rooted in Lutheran teaching\, each session helps young hearts grow in faith and community.
URL:https://gracebk.org/event/sunday-school/2028-10-08/
LOCATION:939 83rd Street\, Brooklyn\, NY 11228
CATEGORIES:Sunday School
ATTACH;FMTTYPE=image/png:https://gracebk.org/wp-content/uploads/2025/07/D2.png
ORGANIZER;CN="Grace Lutheran Church of Brooklyn":MAILTO:connect@gracebk.org
END:VEVENT
BEGIN:VEVENT
DTSTART;TZID=America/New_York:20281008T103000
DTEND;TZID=America/New_York:20281008T130000
DTSTAMP:20260423T041231
CREATED:20260322T034753Z
LAST-MODIFIED:20260322T041111Z
UID:10002604-1854613800-1854622800@gracebk.org
SUMMARY:Sunday Mass
DESCRIPTION:Join us for worship is the heart of our church life at Grace Lutheran Church Brooklyn. We gather together each Sunday to celebrate God’s grace through a blend of traditional hymns and contemporary worship music\, led by our talented musicians and choir. Music is a powerful way to connect with God\, and we invite all members of the congregation to join in singing\, regardless of musical ability. Our worship services are designed to foster a deep spiritual connection and to inspire all who attend to reflect on God’s word.
URL:https://gracebk.org/event/sunday-mass-4-2/2028-10-08/
LOCATION:939 83rd Street\, Brooklyn\, NY 11228
CATEGORIES:Sunday Mass
ATTACH;FMTTYPE=image/jpeg:https://gracebk.org/wp-content/uploads/2026/02/Sunday-Worship-Service.jpg
ORGANIZER;CN="Grace Lutheran Church of Brooklyn":MAILTO:connect@gracebk.org
END:VEVENT
BEGIN:VEVENT
DTSTART;TZID=America/New_York:20281008T113000
DTEND;TZID=America/New_York:20281008T130000
DTSTAMP:20260423T041231
CREATED:20260322T033832Z
LAST-MODIFIED:20260322T034151Z
UID:10002341-1854617400-1854622800@gracebk.org
SUMMARY:Coffee Hour
DESCRIPTION:Fellowship and refreshments following worship.
URL:https://gracebk.org/event/coffee-hour-2/2028-10-08/
LOCATION:939 83rd Street\, Brooklyn\, NY 11228
CATEGORIES:Coffee Hour
ATTACH;FMTTYPE=image/jpeg:https://gracebk.org/wp-content/uploads/2026/02/631726258_1329460442541900_4547997787373663264_n.jpg
ORGANIZER;CN="Grace Lutheran Church of Brooklyn":MAILTO:connect@gracebk.org
END:VEVENT
BEGIN:VEVENT
DTSTART;TZID=America/New_York:20281011T110000
DTEND;TZID=America/New_York:20281011T130000
DTSTAMP:20260423T041231
CREATED:20260322T030003Z
LAST-MODIFIED:20260322T030003Z
UID:10001015-1854874800-1854882000@gracebk.org
SUMMARY:Hybrid Bible Study (Zoom)
DESCRIPTION:Join us for an open and thoughtful space for adults to gather around God’s Word\, along with the wisdom found in other sacred texts. Through conversation\, study\, and prayer\, we seek a deeper understanding of Scripture and its place in our daily lives. Join us in person at the church or virtually via Zoom\, as Bible Study is offered in a hybrid format to fit your schedule and comfort.
URL:https://gracebk.org/event/hybrid-bible-study-zoom-15-2/2028-10-11/
LOCATION:939 83rd Street\, Brooklyn\, NY 11228
ATTACH;FMTTYPE=image/png:https://gracebk.org/wp-content/uploads/2025/07/D5.png
ORGANIZER;CN="Grace Lutheran Church of Brooklyn":MAILTO:connect@gracebk.org
END:VEVENT
END:VCALENDAR