BEGIN:VCALENDAR
VERSION:2.0
PRODID:-//Grace Lutheran Church Brooklyn - ECPv6.15.20//NONSGML v1.0//EN
CALSCALE:GREGORIAN
METHOD:PUBLISH
X-ORIGINAL-URL:https://gracebk.org
X-WR-CALDESC:Events for Grace Lutheran Church Brooklyn
REFRESH-INTERVAL;VALUE=DURATION:PT1H
X-Robots-Tag:noindex
X-PUBLISHED-TTL:PT1H
BEGIN:VTIMEZONE
TZID:America/New_York
BEGIN:DAYLIGHT
TZOFFSETFROM:-0500
TZOFFSETTO:-0400
TZNAME:EDT
DTSTART:20280312T070000
END:DAYLIGHT
BEGIN:STANDARD
TZOFFSETFROM:-0400
TZOFFSETTO:-0500
TZNAME:EST
DTSTART:20281105T060000
END:STANDARD
BEGIN:DAYLIGHT
TZOFFSETFROM:-0500
TZOFFSETTO:-0400
TZNAME:EDT
DTSTART:20290311T070000
END:DAYLIGHT
BEGIN:STANDARD
TZOFFSETFROM:-0400
TZOFFSETTO:-0500
TZNAME:EST
DTSTART:20291104T060000
END:STANDARD
BEGIN:DAYLIGHT
TZOFFSETFROM:-0500
TZOFFSETTO:-0400
TZNAME:EDT
DTSTART:20300310T070000
END:DAYLIGHT
BEGIN:STANDARD
TZOFFSETFROM:-0400
TZOFFSETTO:-0500
TZNAME:EST
DTSTART:20301103T060000
END:STANDARD
END:VTIMEZONE
BEGIN:VEVENT
DTSTART;TZID=America/New_York:20290311T113000
DTEND;TZID=America/New_York:20290311T130000
DTSTAMP:20260424T080806
CREATED:20260322T033832Z
LAST-MODIFIED:20260322T034151Z
UID:10002363-1867923000-1867928400@gracebk.org
SUMMARY:Coffee Hour
DESCRIPTION:Fellowship and refreshments following worship.
URL:https://gracebk.org/event/coffee-hour-2/2029-03-11/
LOCATION:939 83rd Street\, Brooklyn\, NY 11228
CATEGORIES:Coffee Hour
ATTACH;FMTTYPE=image/jpeg:https://gracebk.org/wp-content/uploads/2026/02/631726258_1329460442541900_4547997787373663264_n.jpg
ORGANIZER;CN="Grace Lutheran Church of Brooklyn":MAILTO:connect@gracebk.org
END:VEVENT
BEGIN:VEVENT
DTSTART;TZID=America/New_York:20290314T110000
DTEND;TZID=America/New_York:20290314T130000
DTSTAMP:20260424T080806
CREATED:20260322T030003Z
LAST-MODIFIED:20260322T030003Z
UID:10001037-1868180400-1868187600@gracebk.org
SUMMARY:Hybrid Bible Study (Zoom)
DESCRIPTION:Join us for an open and thoughtful space for adults to gather around God’s Word\, along with the wisdom found in other sacred texts. Through conversation\, study\, and prayer\, we seek a deeper understanding of Scripture and its place in our daily lives. Join us in person at the church or virtually via Zoom\, as Bible Study is offered in a hybrid format to fit your schedule and comfort.
URL:https://gracebk.org/event/hybrid-bible-study-zoom-15-2/2029-03-14/
LOCATION:939 83rd Street\, Brooklyn\, NY 11228
ATTACH;FMTTYPE=image/png:https://gracebk.org/wp-content/uploads/2025/07/D5.png
ORGANIZER;CN="Grace Lutheran Church of Brooklyn":MAILTO:connect@gracebk.org
END:VEVENT
BEGIN:VEVENT
DTSTART;TZID=America/New_York:20290314T173000
DTEND;TZID=America/New_York:20290314T190000
DTSTAMP:20260424T080806
CREATED:20260322T030528Z
LAST-MODIFIED:20260322T030528Z
UID:10000766-1868203800-1868209200@gracebk.org
SUMMARY:Confirmation Class
DESCRIPTION:A time of growth\, questions\, and commitment for middle and high school students\, lasting two years and running from September through June. Together\, we explore what it means to live out our baptismal promises with intention and faith.
URL:https://gracebk.org/event/confirmation-class-2/2029-03-14/
LOCATION:939 83rd Street\, Brooklyn\, NY 11228
CATEGORIES:Confirmation Class
ATTACH;FMTTYPE=image/png:https://gracebk.org/wp-content/uploads/2025/07/D4.png
ORGANIZER;CN="Grace Lutheran Church of Brooklyn":MAILTO:connect@gracebk.org
END:VEVENT
BEGIN:VEVENT
DTSTART;TZID=America/New_York:20290317T183000
DTEND;TZID=America/New_York:20290317T193000
DTSTAMP:20260424T080806
CREATED:20260322T030912Z
LAST-MODIFIED:20260322T030912Z
UID:10000548-1868466600-1868470200@gracebk.org
SUMMARY:Young Adults Gathering (Grades 5-9)
DESCRIPTION:Join us for young adults to connect\, share\, and grow. Each gathering includes Bible study\, meaningful conversation\, service opportunities\, and community-building.
URL:https://gracebk.org/event/young-adults-gathering-7-2/2029-03-17/
LOCATION:939 83rd Street\, Brooklyn\, NY 11228
ATTACH;FMTTYPE=image/png:https://gracebk.org/wp-content/uploads/2025/07/D6.png
ORGANIZER;CN="Grace Lutheran Church of Brooklyn":MAILTO:connect@gracebk.org
END:VEVENT
BEGIN:VEVENT
DTSTART;TZID=America/New_York:20290318T094000
DTEND;TZID=America/New_York:20290318T130000
DTSTAMP:20260424T080806
CREATED:20260322T023407Z
LAST-MODIFIED:20260322T030349Z
UID:10001309-1868521200-1868533200@gracebk.org
SUMMARY:Sunday School (Grades 1–5)
DESCRIPTION:A joyful space where children and youth are invited to explore the Bible through stories\, lessons\, and hands-on activities. Rooted in Lutheran teaching\, each session helps young hearts grow in faith and community.
URL:https://gracebk.org/event/sunday-school/2029-03-18/
LOCATION:939 83rd Street\, Brooklyn\, NY 11228
CATEGORIES:Sunday School
ATTACH;FMTTYPE=image/png:https://gracebk.org/wp-content/uploads/2025/07/D2.png
ORGANIZER;CN="Grace Lutheran Church of Brooklyn":MAILTO:connect@gracebk.org
END:VEVENT
BEGIN:VEVENT
DTSTART;TZID=America/New_York:20290318T103000
DTEND;TZID=America/New_York:20290318T130000
DTSTAMP:20260424T080806
CREATED:20260322T034753Z
LAST-MODIFIED:20260322T041111Z
UID:10002627-1868524200-1868533200@gracebk.org
SUMMARY:Sunday Mass
DESCRIPTION:Join us for worship is the heart of our church life at Grace Lutheran Church Brooklyn. We gather together each Sunday to celebrate God’s grace through a blend of traditional hymns and contemporary worship music\, led by our talented musicians and choir. Music is a powerful way to connect with God\, and we invite all members of the congregation to join in singing\, regardless of musical ability. Our worship services are designed to foster a deep spiritual connection and to inspire all who attend to reflect on God’s word.
URL:https://gracebk.org/event/sunday-mass-4-2/2029-03-18/
LOCATION:939 83rd Street\, Brooklyn\, NY 11228
CATEGORIES:Sunday Mass
ATTACH;FMTTYPE=image/jpeg:https://gracebk.org/wp-content/uploads/2026/02/Sunday-Worship-Service.jpg
ORGANIZER;CN="Grace Lutheran Church of Brooklyn":MAILTO:connect@gracebk.org
END:VEVENT
BEGIN:VEVENT
DTSTART;TZID=America/New_York:20290318T113000
DTEND;TZID=America/New_York:20290318T130000
DTSTAMP:20260424T080806
CREATED:20260322T033832Z
LAST-MODIFIED:20260322T034151Z
UID:10002364-1868527800-1868533200@gracebk.org
SUMMARY:Coffee Hour
DESCRIPTION:Fellowship and refreshments following worship.
URL:https://gracebk.org/event/coffee-hour-2/2029-03-18/
LOCATION:939 83rd Street\, Brooklyn\, NY 11228
CATEGORIES:Coffee Hour
ATTACH;FMTTYPE=image/jpeg:https://gracebk.org/wp-content/uploads/2026/02/631726258_1329460442541900_4547997787373663264_n.jpg
ORGANIZER;CN="Grace Lutheran Church of Brooklyn":MAILTO:connect@gracebk.org
END:VEVENT
BEGIN:VEVENT
DTSTART;TZID=America/New_York:20290321T110000
DTEND;TZID=America/New_York:20290321T130000
DTSTAMP:20260424T080806
CREATED:20260322T030003Z
LAST-MODIFIED:20260322T030003Z
UID:10001038-1868785200-1868792400@gracebk.org
SUMMARY:Hybrid Bible Study (Zoom)
DESCRIPTION:Join us for an open and thoughtful space for adults to gather around God’s Word\, along with the wisdom found in other sacred texts. Through conversation\, study\, and prayer\, we seek a deeper understanding of Scripture and its place in our daily lives. Join us in person at the church or virtually via Zoom\, as Bible Study is offered in a hybrid format to fit your schedule and comfort.
URL:https://gracebk.org/event/hybrid-bible-study-zoom-15-2/2029-03-21/
LOCATION:939 83rd Street\, Brooklyn\, NY 11228
ATTACH;FMTTYPE=image/png:https://gracebk.org/wp-content/uploads/2025/07/D5.png
ORGANIZER;CN="Grace Lutheran Church of Brooklyn":MAILTO:connect@gracebk.org
END:VEVENT
BEGIN:VEVENT
DTSTART;TZID=America/New_York:20290321T173000
DTEND;TZID=America/New_York:20290321T190000
DTSTAMP:20260424T080806
CREATED:20260322T030528Z
LAST-MODIFIED:20260322T030528Z
UID:10000767-1868808600-1868814000@gracebk.org
SUMMARY:Confirmation Class
DESCRIPTION:A time of growth\, questions\, and commitment for middle and high school students\, lasting two years and running from September through June. Together\, we explore what it means to live out our baptismal promises with intention and faith.
URL:https://gracebk.org/event/confirmation-class-2/2029-03-21/
LOCATION:939 83rd Street\, Brooklyn\, NY 11228
CATEGORIES:Confirmation Class
ATTACH;FMTTYPE=image/png:https://gracebk.org/wp-content/uploads/2025/07/D4.png
ORGANIZER;CN="Grace Lutheran Church of Brooklyn":MAILTO:connect@gracebk.org
END:VEVENT
BEGIN:VEVENT
DTSTART;TZID=America/New_York:20290325T094000
DTEND;TZID=America/New_York:20290325T130000
DTSTAMP:20260424T080806
CREATED:20260322T023407Z
LAST-MODIFIED:20260322T030349Z
UID:10001310-1869126000-1869138000@gracebk.org
SUMMARY:Sunday School (Grades 1–5)
DESCRIPTION:A joyful space where children and youth are invited to explore the Bible through stories\, lessons\, and hands-on activities. Rooted in Lutheran teaching\, each session helps young hearts grow in faith and community.
URL:https://gracebk.org/event/sunday-school/2029-03-25/
LOCATION:939 83rd Street\, Brooklyn\, NY 11228
CATEGORIES:Sunday School
ATTACH;FMTTYPE=image/png:https://gracebk.org/wp-content/uploads/2025/07/D2.png
ORGANIZER;CN="Grace Lutheran Church of Brooklyn":MAILTO:connect@gracebk.org
END:VEVENT
BEGIN:VEVENT
DTSTART;TZID=America/New_York:20290325T103000
DTEND;TZID=America/New_York:20290325T130000
DTSTAMP:20260424T080806
CREATED:20260322T034753Z
LAST-MODIFIED:20260322T041111Z
UID:10002628-1869129000-1869138000@gracebk.org
SUMMARY:Sunday Mass
DESCRIPTION:Join us for worship is the heart of our church life at Grace Lutheran Church Brooklyn. We gather together each Sunday to celebrate God’s grace through a blend of traditional hymns and contemporary worship music\, led by our talented musicians and choir. Music is a powerful way to connect with God\, and we invite all members of the congregation to join in singing\, regardless of musical ability. Our worship services are designed to foster a deep spiritual connection and to inspire all who attend to reflect on God’s word.
URL:https://gracebk.org/event/sunday-mass-4-2/2029-03-25/
LOCATION:939 83rd Street\, Brooklyn\, NY 11228
CATEGORIES:Sunday Mass
ATTACH;FMTTYPE=image/jpeg:https://gracebk.org/wp-content/uploads/2026/02/Sunday-Worship-Service.jpg
ORGANIZER;CN="Grace Lutheran Church of Brooklyn":MAILTO:connect@gracebk.org
END:VEVENT
BEGIN:VEVENT
DTSTART;TZID=America/New_York:20290325T113000
DTEND;TZID=America/New_York:20290325T130000
DTSTAMP:20260424T080806
CREATED:20260322T033832Z
LAST-MODIFIED:20260322T034151Z
UID:10002365-1869132600-1869138000@gracebk.org
SUMMARY:Coffee Hour
DESCRIPTION:Fellowship and refreshments following worship.
URL:https://gracebk.org/event/coffee-hour-2/2029-03-25/
LOCATION:939 83rd Street\, Brooklyn\, NY 11228
CATEGORIES:Coffee Hour
ATTACH;FMTTYPE=image/jpeg:https://gracebk.org/wp-content/uploads/2026/02/631726258_1329460442541900_4547997787373663264_n.jpg
ORGANIZER;CN="Grace Lutheran Church of Brooklyn":MAILTO:connect@gracebk.org
END:VEVENT
BEGIN:VEVENT
DTSTART;TZID=America/New_York:20290328T110000
DTEND;TZID=America/New_York:20290328T130000
DTSTAMP:20260424T080806
CREATED:20260322T030003Z
LAST-MODIFIED:20260322T030003Z
UID:10001039-1869390000-1869397200@gracebk.org
SUMMARY:Hybrid Bible Study (Zoom)
DESCRIPTION:Join us for an open and thoughtful space for adults to gather around God’s Word\, along with the wisdom found in other sacred texts. Through conversation\, study\, and prayer\, we seek a deeper understanding of Scripture and its place in our daily lives. Join us in person at the church or virtually via Zoom\, as Bible Study is offered in a hybrid format to fit your schedule and comfort.
URL:https://gracebk.org/event/hybrid-bible-study-zoom-15-2/2029-03-28/
LOCATION:939 83rd Street\, Brooklyn\, NY 11228
ATTACH;FMTTYPE=image/png:https://gracebk.org/wp-content/uploads/2025/07/D5.png
ORGANIZER;CN="Grace Lutheran Church of Brooklyn":MAILTO:connect@gracebk.org
END:VEVENT
BEGIN:VEVENT
DTSTART;TZID=America/New_York:20290328T173000
DTEND;TZID=America/New_York:20290328T190000
DTSTAMP:20260424T080806
CREATED:20260322T030528Z
LAST-MODIFIED:20260322T030528Z
UID:10000768-1869413400-1869418800@gracebk.org
SUMMARY:Confirmation Class
DESCRIPTION:A time of growth\, questions\, and commitment for middle and high school students\, lasting two years and running from September through June. Together\, we explore what it means to live out our baptismal promises with intention and faith.
URL:https://gracebk.org/event/confirmation-class-2/2029-03-28/
LOCATION:939 83rd Street\, Brooklyn\, NY 11228
CATEGORIES:Confirmation Class
ATTACH;FMTTYPE=image/png:https://gracebk.org/wp-content/uploads/2025/07/D4.png
ORGANIZER;CN="Grace Lutheran Church of Brooklyn":MAILTO:connect@gracebk.org
END:VEVENT
BEGIN:VEVENT
DTSTART;TZID=America/New_York:20290331T183000
DTEND;TZID=America/New_York:20290331T193000
DTSTAMP:20260424T080806
CREATED:20260322T030912Z
LAST-MODIFIED:20260322T030912Z
UID:10000549-1869676200-1869679800@gracebk.org
SUMMARY:Young Adults Gathering (Grades 5-9)
DESCRIPTION:Join us for young adults to connect\, share\, and grow. Each gathering includes Bible study\, meaningful conversation\, service opportunities\, and community-building.
URL:https://gracebk.org/event/young-adults-gathering-7-2/2029-03-31/
LOCATION:939 83rd Street\, Brooklyn\, NY 11228
ATTACH;FMTTYPE=image/png:https://gracebk.org/wp-content/uploads/2025/07/D6.png
ORGANIZER;CN="Grace Lutheran Church of Brooklyn":MAILTO:connect@gracebk.org
END:VEVENT
BEGIN:VEVENT
DTSTART;TZID=America/New_York:20290401T094000
DTEND;TZID=America/New_York:20290401T130000
DTSTAMP:20260424T080806
CREATED:20260322T023407Z
LAST-MODIFIED:20260322T030349Z
UID:10001311-1869730800-1869742800@gracebk.org
SUMMARY:Sunday School (Grades 1–5)
DESCRIPTION:A joyful space where children and youth are invited to explore the Bible through stories\, lessons\, and hands-on activities. Rooted in Lutheran teaching\, each session helps young hearts grow in faith and community.
URL:https://gracebk.org/event/sunday-school/2029-04-01/
LOCATION:939 83rd Street\, Brooklyn\, NY 11228
CATEGORIES:Sunday School
ATTACH;FMTTYPE=image/png:https://gracebk.org/wp-content/uploads/2025/07/D2.png
ORGANIZER;CN="Grace Lutheran Church of Brooklyn":MAILTO:connect@gracebk.org
END:VEVENT
BEGIN:VEVENT
DTSTART;TZID=America/New_York:20290401T103000
DTEND;TZID=America/New_York:20290401T130000
DTSTAMP:20260424T080806
CREATED:20260322T034753Z
LAST-MODIFIED:20260322T041111Z
UID:10002629-1869733800-1869742800@gracebk.org
SUMMARY:Sunday Mass
DESCRIPTION:Join us for worship is the heart of our church life at Grace Lutheran Church Brooklyn. We gather together each Sunday to celebrate God’s grace through a blend of traditional hymns and contemporary worship music\, led by our talented musicians and choir. Music is a powerful way to connect with God\, and we invite all members of the congregation to join in singing\, regardless of musical ability. Our worship services are designed to foster a deep spiritual connection and to inspire all who attend to reflect on God’s word.
URL:https://gracebk.org/event/sunday-mass-4-2/2029-04-01/
LOCATION:939 83rd Street\, Brooklyn\, NY 11228
CATEGORIES:Sunday Mass
ATTACH;FMTTYPE=image/jpeg:https://gracebk.org/wp-content/uploads/2026/02/Sunday-Worship-Service.jpg
ORGANIZER;CN="Grace Lutheran Church of Brooklyn":MAILTO:connect@gracebk.org
END:VEVENT
BEGIN:VEVENT
DTSTART;TZID=America/New_York:20290401T113000
DTEND;TZID=America/New_York:20290401T130000
DTSTAMP:20260424T080806
CREATED:20260322T033832Z
LAST-MODIFIED:20260322T034151Z
UID:10002366-1869737400-1869742800@gracebk.org
SUMMARY:Coffee Hour
DESCRIPTION:Fellowship and refreshments following worship.
URL:https://gracebk.org/event/coffee-hour-2/2029-04-01/
LOCATION:939 83rd Street\, Brooklyn\, NY 11228
CATEGORIES:Coffee Hour
ATTACH;FMTTYPE=image/jpeg:https://gracebk.org/wp-content/uploads/2026/02/631726258_1329460442541900_4547997787373663264_n.jpg
ORGANIZER;CN="Grace Lutheran Church of Brooklyn":MAILTO:connect@gracebk.org
END:VEVENT
BEGIN:VEVENT
DTSTART;TZID=America/New_York:20290404T110000
DTEND;TZID=America/New_York:20290404T130000
DTSTAMP:20260424T080806
CREATED:20260322T030003Z
LAST-MODIFIED:20260322T030003Z
UID:10001040-1869994800-1870002000@gracebk.org
SUMMARY:Hybrid Bible Study (Zoom)
DESCRIPTION:Join us for an open and thoughtful space for adults to gather around God’s Word\, along with the wisdom found in other sacred texts. Through conversation\, study\, and prayer\, we seek a deeper understanding of Scripture and its place in our daily lives. Join us in person at the church or virtually via Zoom\, as Bible Study is offered in a hybrid format to fit your schedule and comfort.
URL:https://gracebk.org/event/hybrid-bible-study-zoom-15-2/2029-04-04/
LOCATION:939 83rd Street\, Brooklyn\, NY 11228
ATTACH;FMTTYPE=image/png:https://gracebk.org/wp-content/uploads/2025/07/D5.png
ORGANIZER;CN="Grace Lutheran Church of Brooklyn":MAILTO:connect@gracebk.org
END:VEVENT
BEGIN:VEVENT
DTSTART;TZID=America/New_York:20290404T173000
DTEND;TZID=America/New_York:20290404T190000
DTSTAMP:20260424T080806
CREATED:20260322T030528Z
LAST-MODIFIED:20260322T030528Z
UID:10000769-1870018200-1870023600@gracebk.org
SUMMARY:Confirmation Class
DESCRIPTION:A time of growth\, questions\, and commitment for middle and high school students\, lasting two years and running from September through June. Together\, we explore what it means to live out our baptismal promises with intention and faith.
URL:https://gracebk.org/event/confirmation-class-2/2029-04-04/
LOCATION:939 83rd Street\, Brooklyn\, NY 11228
CATEGORIES:Confirmation Class
ATTACH;FMTTYPE=image/png:https://gracebk.org/wp-content/uploads/2025/07/D4.png
ORGANIZER;CN="Grace Lutheran Church of Brooklyn":MAILTO:connect@gracebk.org
END:VEVENT
BEGIN:VEVENT
DTSTART;TZID=America/New_York:20290408T094000
DTEND;TZID=America/New_York:20290408T130000
DTSTAMP:20260424T080806
CREATED:20260322T023407Z
LAST-MODIFIED:20260322T030349Z
UID:10001312-1870335600-1870347600@gracebk.org
SUMMARY:Sunday School (Grades 1–5)
DESCRIPTION:A joyful space where children and youth are invited to explore the Bible through stories\, lessons\, and hands-on activities. Rooted in Lutheran teaching\, each session helps young hearts grow in faith and community.
URL:https://gracebk.org/event/sunday-school/2029-04-08/
LOCATION:939 83rd Street\, Brooklyn\, NY 11228
CATEGORIES:Sunday School
ATTACH;FMTTYPE=image/png:https://gracebk.org/wp-content/uploads/2025/07/D2.png
ORGANIZER;CN="Grace Lutheran Church of Brooklyn":MAILTO:connect@gracebk.org
END:VEVENT
BEGIN:VEVENT
DTSTART;TZID=America/New_York:20290408T103000
DTEND;TZID=America/New_York:20290408T130000
DTSTAMP:20260424T080806
CREATED:20260322T034753Z
LAST-MODIFIED:20260322T041111Z
UID:10002630-1870338600-1870347600@gracebk.org
SUMMARY:Sunday Mass
DESCRIPTION:Join us for worship is the heart of our church life at Grace Lutheran Church Brooklyn. We gather together each Sunday to celebrate God’s grace through a blend of traditional hymns and contemporary worship music\, led by our talented musicians and choir. Music is a powerful way to connect with God\, and we invite all members of the congregation to join in singing\, regardless of musical ability. Our worship services are designed to foster a deep spiritual connection and to inspire all who attend to reflect on God’s word.
URL:https://gracebk.org/event/sunday-mass-4-2/2029-04-08/
LOCATION:939 83rd Street\, Brooklyn\, NY 11228
CATEGORIES:Sunday Mass
ATTACH;FMTTYPE=image/jpeg:https://gracebk.org/wp-content/uploads/2026/02/Sunday-Worship-Service.jpg
ORGANIZER;CN="Grace Lutheran Church of Brooklyn":MAILTO:connect@gracebk.org
END:VEVENT
BEGIN:VEVENT
DTSTART;TZID=America/New_York:20290408T113000
DTEND;TZID=America/New_York:20290408T130000
DTSTAMP:20260424T080806
CREATED:20260322T033832Z
LAST-MODIFIED:20260322T034151Z
UID:10002367-1870342200-1870347600@gracebk.org
SUMMARY:Coffee Hour
DESCRIPTION:Fellowship and refreshments following worship.
URL:https://gracebk.org/event/coffee-hour-2/2029-04-08/
LOCATION:939 83rd Street\, Brooklyn\, NY 11228
CATEGORIES:Coffee Hour
ATTACH;FMTTYPE=image/jpeg:https://gracebk.org/wp-content/uploads/2026/02/631726258_1329460442541900_4547997787373663264_n.jpg
ORGANIZER;CN="Grace Lutheran Church of Brooklyn":MAILTO:connect@gracebk.org
END:VEVENT
BEGIN:VEVENT
DTSTART;TZID=America/New_York:20290411T110000
DTEND;TZID=America/New_York:20290411T130000
DTSTAMP:20260424T080806
CREATED:20260322T030003Z
LAST-MODIFIED:20260322T030003Z
UID:10001041-1870599600-1870606800@gracebk.org
SUMMARY:Hybrid Bible Study (Zoom)
DESCRIPTION:Join us for an open and thoughtful space for adults to gather around God’s Word\, along with the wisdom found in other sacred texts. Through conversation\, study\, and prayer\, we seek a deeper understanding of Scripture and its place in our daily lives. Join us in person at the church or virtually via Zoom\, as Bible Study is offered in a hybrid format to fit your schedule and comfort.
URL:https://gracebk.org/event/hybrid-bible-study-zoom-15-2/2029-04-11/
LOCATION:939 83rd Street\, Brooklyn\, NY 11228
ATTACH;FMTTYPE=image/png:https://gracebk.org/wp-content/uploads/2025/07/D5.png
ORGANIZER;CN="Grace Lutheran Church of Brooklyn":MAILTO:connect@gracebk.org
END:VEVENT
BEGIN:VEVENT
DTSTART;TZID=America/New_York:20290411T173000
DTEND;TZID=America/New_York:20290411T190000
DTSTAMP:20260424T080806
CREATED:20260322T030528Z
LAST-MODIFIED:20260322T030528Z
UID:10000770-1870623000-1870628400@gracebk.org
SUMMARY:Confirmation Class
DESCRIPTION:A time of growth\, questions\, and commitment for middle and high school students\, lasting two years and running from September through June. Together\, we explore what it means to live out our baptismal promises with intention and faith.
URL:https://gracebk.org/event/confirmation-class-2/2029-04-11/
LOCATION:939 83rd Street\, Brooklyn\, NY 11228
CATEGORIES:Confirmation Class
ATTACH;FMTTYPE=image/png:https://gracebk.org/wp-content/uploads/2025/07/D4.png
ORGANIZER;CN="Grace Lutheran Church of Brooklyn":MAILTO:connect@gracebk.org
END:VEVENT
BEGIN:VEVENT
DTSTART;TZID=America/New_York:20290414T183000
DTEND;TZID=America/New_York:20290414T193000
DTSTAMP:20260424T080806
CREATED:20260322T030912Z
LAST-MODIFIED:20260322T030912Z
UID:10000550-1870885800-1870889400@gracebk.org
SUMMARY:Young Adults Gathering (Grades 5-9)
DESCRIPTION:Join us for young adults to connect\, share\, and grow. Each gathering includes Bible study\, meaningful conversation\, service opportunities\, and community-building.
URL:https://gracebk.org/event/young-adults-gathering-7-2/2029-04-14/
LOCATION:939 83rd Street\, Brooklyn\, NY 11228
ATTACH;FMTTYPE=image/png:https://gracebk.org/wp-content/uploads/2025/07/D6.png
ORGANIZER;CN="Grace Lutheran Church of Brooklyn":MAILTO:connect@gracebk.org
END:VEVENT
BEGIN:VEVENT
DTSTART;TZID=America/New_York:20290415T094000
DTEND;TZID=America/New_York:20290415T130000
DTSTAMP:20260424T080806
CREATED:20260322T023407Z
LAST-MODIFIED:20260322T030349Z
UID:10001313-1870940400-1870952400@gracebk.org
SUMMARY:Sunday School (Grades 1–5)
DESCRIPTION:A joyful space where children and youth are invited to explore the Bible through stories\, lessons\, and hands-on activities. Rooted in Lutheran teaching\, each session helps young hearts grow in faith and community.
URL:https://gracebk.org/event/sunday-school/2029-04-15/
LOCATION:939 83rd Street\, Brooklyn\, NY 11228
CATEGORIES:Sunday School
ATTACH;FMTTYPE=image/png:https://gracebk.org/wp-content/uploads/2025/07/D2.png
ORGANIZER;CN="Grace Lutheran Church of Brooklyn":MAILTO:connect@gracebk.org
END:VEVENT
BEGIN:VEVENT
DTSTART;TZID=America/New_York:20290415T103000
DTEND;TZID=America/New_York:20290415T130000
DTSTAMP:20260424T080806
CREATED:20260322T034753Z
LAST-MODIFIED:20260322T041111Z
UID:10002631-1870943400-1870952400@gracebk.org
SUMMARY:Sunday Mass
DESCRIPTION:Join us for worship is the heart of our church life at Grace Lutheran Church Brooklyn. We gather together each Sunday to celebrate God’s grace through a blend of traditional hymns and contemporary worship music\, led by our talented musicians and choir. Music is a powerful way to connect with God\, and we invite all members of the congregation to join in singing\, regardless of musical ability. Our worship services are designed to foster a deep spiritual connection and to inspire all who attend to reflect on God’s word.
URL:https://gracebk.org/event/sunday-mass-4-2/2029-04-15/
LOCATION:939 83rd Street\, Brooklyn\, NY 11228
CATEGORIES:Sunday Mass
ATTACH;FMTTYPE=image/jpeg:https://gracebk.org/wp-content/uploads/2026/02/Sunday-Worship-Service.jpg
ORGANIZER;CN="Grace Lutheran Church of Brooklyn":MAILTO:connect@gracebk.org
END:VEVENT
BEGIN:VEVENT
DTSTART;TZID=America/New_York:20290415T113000
DTEND;TZID=America/New_York:20290415T130000
DTSTAMP:20260424T080806
CREATED:20260322T033832Z
LAST-MODIFIED:20260322T034151Z
UID:10002368-1870947000-1870952400@gracebk.org
SUMMARY:Coffee Hour
DESCRIPTION:Fellowship and refreshments following worship.
URL:https://gracebk.org/event/coffee-hour-2/2029-04-15/
LOCATION:939 83rd Street\, Brooklyn\, NY 11228
CATEGORIES:Coffee Hour
ATTACH;FMTTYPE=image/jpeg:https://gracebk.org/wp-content/uploads/2026/02/631726258_1329460442541900_4547997787373663264_n.jpg
ORGANIZER;CN="Grace Lutheran Church of Brooklyn":MAILTO:connect@gracebk.org
END:VEVENT
BEGIN:VEVENT
DTSTART;TZID=America/New_York:20290418T110000
DTEND;TZID=America/New_York:20290418T130000
DTSTAMP:20260424T080806
CREATED:20260322T030003Z
LAST-MODIFIED:20260322T030003Z
UID:10001042-1871204400-1871211600@gracebk.org
SUMMARY:Hybrid Bible Study (Zoom)
DESCRIPTION:Join us for an open and thoughtful space for adults to gather around God’s Word\, along with the wisdom found in other sacred texts. Through conversation\, study\, and prayer\, we seek a deeper understanding of Scripture and its place in our daily lives. Join us in person at the church or virtually via Zoom\, as Bible Study is offered in a hybrid format to fit your schedule and comfort.
URL:https://gracebk.org/event/hybrid-bible-study-zoom-15-2/2029-04-18/
LOCATION:939 83rd Street\, Brooklyn\, NY 11228
ATTACH;FMTTYPE=image/png:https://gracebk.org/wp-content/uploads/2025/07/D5.png
ORGANIZER;CN="Grace Lutheran Church of Brooklyn":MAILTO:connect@gracebk.org
END:VEVENT
END:VCALENDAR