BEGIN:VCALENDAR
VERSION:2.0
PRODID:-//Grace Lutheran Church Brooklyn - ECPv6.15.15//NONSGML v1.0//EN
CALSCALE:GREGORIAN
METHOD:PUBLISH
X-ORIGINAL-URL:https://gracebk.org
X-WR-CALDESC:Events for Grace Lutheran Church Brooklyn
REFRESH-INTERVAL;VALUE=DURATION:PT1H
X-Robots-Tag:noindex
X-PUBLISHED-TTL:PT1H
BEGIN:VTIMEZONE
TZID:America/New_York
BEGIN:DAYLIGHT
TZOFFSETFROM:-0500
TZOFFSETTO:-0400
TZNAME:EDT
DTSTART:20260308T070000
END:DAYLIGHT
BEGIN:STANDARD
TZOFFSETFROM:-0400
TZOFFSETTO:-0500
TZNAME:EST
DTSTART:20261101T060000
END:STANDARD
BEGIN:DAYLIGHT
TZOFFSETFROM:-0500
TZOFFSETTO:-0400
TZNAME:EDT
DTSTART:20270314T070000
END:DAYLIGHT
BEGIN:STANDARD
TZOFFSETFROM:-0400
TZOFFSETTO:-0500
TZNAME:EST
DTSTART:20271107T060000
END:STANDARD
BEGIN:DAYLIGHT
TZOFFSETFROM:-0500
TZOFFSETTO:-0400
TZNAME:EDT
DTSTART:20280312T070000
END:DAYLIGHT
BEGIN:STANDARD
TZOFFSETFROM:-0400
TZOFFSETTO:-0500
TZNAME:EST
DTSTART:20281105T060000
END:STANDARD
BEGIN:DAYLIGHT
TZOFFSETFROM:-0500
TZOFFSETTO:-0400
TZNAME:EDT
DTSTART:20290311T070000
END:DAYLIGHT
BEGIN:STANDARD
TZOFFSETFROM:-0400
TZOFFSETTO:-0500
TZNAME:EST
DTSTART:20291104T060000
END:STANDARD
END:VTIMEZONE
BEGIN:VEVENT
DTSTART;TZID=America/New_York:20271128T094000
DTEND;TZID=America/New_York:20271128T130000
DTSTAMP:20260421T145618
CREATED:20260322T023407Z
LAST-MODIFIED:20260322T030349Z
UID:10001241-1827394800-1827406800@gracebk.org
SUMMARY:Sunday School (Grades 1–5)
DESCRIPTION:A joyful space where children and youth are invited to explore the Bible through stories\, lessons\, and hands-on activities. Rooted in Lutheran teaching\, each session helps young hearts grow in faith and community.
URL:https://gracebk.org/event/sunday-school/2027-11-28/
LOCATION:939 83rd Street\, Brooklyn\, NY 11228
CATEGORIES:Sunday School
ATTACH;FMTTYPE=image/png:https://gracebk.org/wp-content/uploads/2025/07/D2.png
ORGANIZER;CN="Grace Lutheran Church of Brooklyn":MAILTO:connect@gracebk.org
END:VEVENT
BEGIN:VEVENT
DTSTART;TZID=America/New_York:20271128T103000
DTEND;TZID=America/New_York:20271128T130000
DTSTAMP:20260421T145618
CREATED:20260322T034753Z
LAST-MODIFIED:20260322T041111Z
UID:10002559-1827397800-1827406800@gracebk.org
SUMMARY:Sunday Mass
DESCRIPTION:Join us for worship is the heart of our church life at Grace Lutheran Church Brooklyn. We gather together each Sunday to celebrate God’s grace through a blend of traditional hymns and contemporary worship music\, led by our talented musicians and choir. Music is a powerful way to connect with God\, and we invite all members of the congregation to join in singing\, regardless of musical ability. Our worship services are designed to foster a deep spiritual connection and to inspire all who attend to reflect on God’s word.
URL:https://gracebk.org/event/sunday-mass-4-2/2027-11-28/
LOCATION:939 83rd Street\, Brooklyn\, NY 11228
CATEGORIES:Sunday Mass
ATTACH;FMTTYPE=image/jpeg:https://gracebk.org/wp-content/uploads/2026/02/Sunday-Worship-Service.jpg
ORGANIZER;CN="Grace Lutheran Church of Brooklyn":MAILTO:connect@gracebk.org
END:VEVENT
BEGIN:VEVENT
DTSTART;TZID=America/New_York:20271128T113000
DTEND;TZID=America/New_York:20271128T130000
DTSTAMP:20260421T145618
CREATED:20260322T033832Z
LAST-MODIFIED:20260322T034151Z
UID:10002296-1827401400-1827406800@gracebk.org
SUMMARY:Coffee Hour
DESCRIPTION:Fellowship and refreshments following worship.
URL:https://gracebk.org/event/coffee-hour-2/2027-11-28/
LOCATION:939 83rd Street\, Brooklyn\, NY 11228
CATEGORIES:Coffee Hour
ATTACH;FMTTYPE=image/jpeg:https://gracebk.org/wp-content/uploads/2026/02/631726258_1329460442541900_4547997787373663264_n.jpg
ORGANIZER;CN="Grace Lutheran Church of Brooklyn":MAILTO:connect@gracebk.org
END:VEVENT
BEGIN:VEVENT
DTSTART;TZID=America/New_York:20271201T110000
DTEND;TZID=America/New_York:20271201T130000
DTSTAMP:20260421T145618
CREATED:20260322T030003Z
LAST-MODIFIED:20260322T030003Z
UID:10000970-1827658800-1827666000@gracebk.org
SUMMARY:Hybrid Bible Study (Zoom)
DESCRIPTION:Join us for an open and thoughtful space for adults to gather around God’s Word\, along with the wisdom found in other sacred texts. Through conversation\, study\, and prayer\, we seek a deeper understanding of Scripture and its place in our daily lives. Join us in person at the church or virtually via Zoom\, as Bible Study is offered in a hybrid format to fit your schedule and comfort.
URL:https://gracebk.org/event/hybrid-bible-study-zoom-15-2/2027-12-01/
LOCATION:939 83rd Street\, Brooklyn\, NY 11228
ATTACH;FMTTYPE=image/png:https://gracebk.org/wp-content/uploads/2025/07/D5.png
ORGANIZER;CN="Grace Lutheran Church of Brooklyn":MAILTO:connect@gracebk.org
END:VEVENT
BEGIN:VEVENT
DTSTART;TZID=America/New_York:20271201T173000
DTEND;TZID=America/New_York:20271201T190000
DTSTAMP:20260421T145618
CREATED:20260322T030528Z
LAST-MODIFIED:20260322T030528Z
UID:10000699-1827682200-1827687600@gracebk.org
SUMMARY:Confirmation Class
DESCRIPTION:A time of growth\, questions\, and commitment for middle and high school students\, lasting two years and running from September through June. Together\, we explore what it means to live out our baptismal promises with intention and faith.
URL:https://gracebk.org/event/confirmation-class-2/2027-12-01/
LOCATION:939 83rd Street\, Brooklyn\, NY 11228
CATEGORIES:Confirmation Class
ATTACH;FMTTYPE=image/png:https://gracebk.org/wp-content/uploads/2025/07/D4.png
ORGANIZER;CN="Grace Lutheran Church of Brooklyn":MAILTO:connect@gracebk.org
END:VEVENT
BEGIN:VEVENT
DTSTART;TZID=America/New_York:20271205T094000
DTEND;TZID=America/New_York:20271205T130000
DTSTAMP:20260421T145618
CREATED:20260322T023407Z
LAST-MODIFIED:20260322T030349Z
UID:10001242-1827999600-1828011600@gracebk.org
SUMMARY:Sunday School (Grades 1–5)
DESCRIPTION:A joyful space where children and youth are invited to explore the Bible through stories\, lessons\, and hands-on activities. Rooted in Lutheran teaching\, each session helps young hearts grow in faith and community.
URL:https://gracebk.org/event/sunday-school/2027-12-05/
LOCATION:939 83rd Street\, Brooklyn\, NY 11228
CATEGORIES:Sunday School
ATTACH;FMTTYPE=image/png:https://gracebk.org/wp-content/uploads/2025/07/D2.png
ORGANIZER;CN="Grace Lutheran Church of Brooklyn":MAILTO:connect@gracebk.org
END:VEVENT
BEGIN:VEVENT
DTSTART;TZID=America/New_York:20271205T103000
DTEND;TZID=America/New_York:20271205T130000
DTSTAMP:20260421T145618
CREATED:20260322T034753Z
LAST-MODIFIED:20260322T041111Z
UID:10002560-1828002600-1828011600@gracebk.org
SUMMARY:Sunday Mass
DESCRIPTION:Join us for worship is the heart of our church life at Grace Lutheran Church Brooklyn. We gather together each Sunday to celebrate God’s grace through a blend of traditional hymns and contemporary worship music\, led by our talented musicians and choir. Music is a powerful way to connect with God\, and we invite all members of the congregation to join in singing\, regardless of musical ability. Our worship services are designed to foster a deep spiritual connection and to inspire all who attend to reflect on God’s word.
URL:https://gracebk.org/event/sunday-mass-4-2/2027-12-05/
LOCATION:939 83rd Street\, Brooklyn\, NY 11228
CATEGORIES:Sunday Mass
ATTACH;FMTTYPE=image/jpeg:https://gracebk.org/wp-content/uploads/2026/02/Sunday-Worship-Service.jpg
ORGANIZER;CN="Grace Lutheran Church of Brooklyn":MAILTO:connect@gracebk.org
END:VEVENT
BEGIN:VEVENT
DTSTART;TZID=America/New_York:20271205T113000
DTEND;TZID=America/New_York:20271205T130000
DTSTAMP:20260421T145618
CREATED:20260322T033832Z
LAST-MODIFIED:20260322T034151Z
UID:10002297-1828006200-1828011600@gracebk.org
SUMMARY:Coffee Hour
DESCRIPTION:Fellowship and refreshments following worship.
URL:https://gracebk.org/event/coffee-hour-2/2027-12-05/
LOCATION:939 83rd Street\, Brooklyn\, NY 11228
CATEGORIES:Coffee Hour
ATTACH;FMTTYPE=image/jpeg:https://gracebk.org/wp-content/uploads/2026/02/631726258_1329460442541900_4547997787373663264_n.jpg
ORGANIZER;CN="Grace Lutheran Church of Brooklyn":MAILTO:connect@gracebk.org
END:VEVENT
BEGIN:VEVENT
DTSTART;TZID=America/New_York:20271208T110000
DTEND;TZID=America/New_York:20271208T130000
DTSTAMP:20260421T145618
CREATED:20260322T030003Z
LAST-MODIFIED:20260322T030003Z
UID:10000971-1828263600-1828270800@gracebk.org
SUMMARY:Hybrid Bible Study (Zoom)
DESCRIPTION:Join us for an open and thoughtful space for adults to gather around God’s Word\, along with the wisdom found in other sacred texts. Through conversation\, study\, and prayer\, we seek a deeper understanding of Scripture and its place in our daily lives. Join us in person at the church or virtually via Zoom\, as Bible Study is offered in a hybrid format to fit your schedule and comfort.
URL:https://gracebk.org/event/hybrid-bible-study-zoom-15-2/2027-12-08/
LOCATION:939 83rd Street\, Brooklyn\, NY 11228
ATTACH;FMTTYPE=image/png:https://gracebk.org/wp-content/uploads/2025/07/D5.png
ORGANIZER;CN="Grace Lutheran Church of Brooklyn":MAILTO:connect@gracebk.org
END:VEVENT
BEGIN:VEVENT
DTSTART;TZID=America/New_York:20271208T173000
DTEND;TZID=America/New_York:20271208T190000
DTSTAMP:20260421T145618
CREATED:20260322T030528Z
LAST-MODIFIED:20260322T030528Z
UID:10000700-1828287000-1828292400@gracebk.org
SUMMARY:Confirmation Class
DESCRIPTION:A time of growth\, questions\, and commitment for middle and high school students\, lasting two years and running from September through June. Together\, we explore what it means to live out our baptismal promises with intention and faith.
URL:https://gracebk.org/event/confirmation-class-2/2027-12-08/
LOCATION:939 83rd Street\, Brooklyn\, NY 11228
CATEGORIES:Confirmation Class
ATTACH;FMTTYPE=image/png:https://gracebk.org/wp-content/uploads/2025/07/D4.png
ORGANIZER;CN="Grace Lutheran Church of Brooklyn":MAILTO:connect@gracebk.org
END:VEVENT
BEGIN:VEVENT
DTSTART;TZID=America/New_York:20271211T183000
DTEND;TZID=America/New_York:20271211T193000
DTSTAMP:20260421T145618
CREATED:20260322T030912Z
LAST-MODIFIED:20260322T030912Z
UID:10000515-1828549800-1828553400@gracebk.org
SUMMARY:Young Adults Gathering (Grades 5-9)
DESCRIPTION:Join us for young adults to connect\, share\, and grow. Each gathering includes Bible study\, meaningful conversation\, service opportunities\, and community-building.
URL:https://gracebk.org/event/young-adults-gathering-7-2/2027-12-11/
LOCATION:939 83rd Street\, Brooklyn\, NY 11228
ATTACH;FMTTYPE=image/png:https://gracebk.org/wp-content/uploads/2025/07/D6.png
ORGANIZER;CN="Grace Lutheran Church of Brooklyn":MAILTO:connect@gracebk.org
END:VEVENT
BEGIN:VEVENT
DTSTART;TZID=America/New_York:20271212T094000
DTEND;TZID=America/New_York:20271212T130000
DTSTAMP:20260421T145618
CREATED:20260322T023407Z
LAST-MODIFIED:20260322T030349Z
UID:10001243-1828604400-1828616400@gracebk.org
SUMMARY:Sunday School (Grades 1–5)
DESCRIPTION:A joyful space where children and youth are invited to explore the Bible through stories\, lessons\, and hands-on activities. Rooted in Lutheran teaching\, each session helps young hearts grow in faith and community.
URL:https://gracebk.org/event/sunday-school/2027-12-12/
LOCATION:939 83rd Street\, Brooklyn\, NY 11228
CATEGORIES:Sunday School
ATTACH;FMTTYPE=image/png:https://gracebk.org/wp-content/uploads/2025/07/D2.png
ORGANIZER;CN="Grace Lutheran Church of Brooklyn":MAILTO:connect@gracebk.org
END:VEVENT
BEGIN:VEVENT
DTSTART;TZID=America/New_York:20271212T103000
DTEND;TZID=America/New_York:20271212T130000
DTSTAMP:20260421T145618
CREATED:20260322T034753Z
LAST-MODIFIED:20260322T041111Z
UID:10002561-1828607400-1828616400@gracebk.org
SUMMARY:Sunday Mass
DESCRIPTION:Join us for worship is the heart of our church life at Grace Lutheran Church Brooklyn. We gather together each Sunday to celebrate God’s grace through a blend of traditional hymns and contemporary worship music\, led by our talented musicians and choir. Music is a powerful way to connect with God\, and we invite all members of the congregation to join in singing\, regardless of musical ability. Our worship services are designed to foster a deep spiritual connection and to inspire all who attend to reflect on God’s word.
URL:https://gracebk.org/event/sunday-mass-4-2/2027-12-12/
LOCATION:939 83rd Street\, Brooklyn\, NY 11228
CATEGORIES:Sunday Mass
ATTACH;FMTTYPE=image/jpeg:https://gracebk.org/wp-content/uploads/2026/02/Sunday-Worship-Service.jpg
ORGANIZER;CN="Grace Lutheran Church of Brooklyn":MAILTO:connect@gracebk.org
END:VEVENT
BEGIN:VEVENT
DTSTART;TZID=America/New_York:20271212T113000
DTEND;TZID=America/New_York:20271212T130000
DTSTAMP:20260421T145618
CREATED:20260322T033832Z
LAST-MODIFIED:20260322T034151Z
UID:10002298-1828611000-1828616400@gracebk.org
SUMMARY:Coffee Hour
DESCRIPTION:Fellowship and refreshments following worship.
URL:https://gracebk.org/event/coffee-hour-2/2027-12-12/
LOCATION:939 83rd Street\, Brooklyn\, NY 11228
CATEGORIES:Coffee Hour
ATTACH;FMTTYPE=image/jpeg:https://gracebk.org/wp-content/uploads/2026/02/631726258_1329460442541900_4547997787373663264_n.jpg
ORGANIZER;CN="Grace Lutheran Church of Brooklyn":MAILTO:connect@gracebk.org
END:VEVENT
BEGIN:VEVENT
DTSTART;TZID=America/New_York:20271215T110000
DTEND;TZID=America/New_York:20271215T130000
DTSTAMP:20260421T145618
CREATED:20260322T030003Z
LAST-MODIFIED:20260322T030003Z
UID:10000972-1828868400-1828875600@gracebk.org
SUMMARY:Hybrid Bible Study (Zoom)
DESCRIPTION:Join us for an open and thoughtful space for adults to gather around God’s Word\, along with the wisdom found in other sacred texts. Through conversation\, study\, and prayer\, we seek a deeper understanding of Scripture and its place in our daily lives. Join us in person at the church or virtually via Zoom\, as Bible Study is offered in a hybrid format to fit your schedule and comfort.
URL:https://gracebk.org/event/hybrid-bible-study-zoom-15-2/2027-12-15/
LOCATION:939 83rd Street\, Brooklyn\, NY 11228
ATTACH;FMTTYPE=image/png:https://gracebk.org/wp-content/uploads/2025/07/D5.png
ORGANIZER;CN="Grace Lutheran Church of Brooklyn":MAILTO:connect@gracebk.org
END:VEVENT
BEGIN:VEVENT
DTSTART;TZID=America/New_York:20271215T173000
DTEND;TZID=America/New_York:20271215T190000
DTSTAMP:20260421T145618
CREATED:20260322T030528Z
LAST-MODIFIED:20260322T030528Z
UID:10000701-1828891800-1828897200@gracebk.org
SUMMARY:Confirmation Class
DESCRIPTION:A time of growth\, questions\, and commitment for middle and high school students\, lasting two years and running from September through June. Together\, we explore what it means to live out our baptismal promises with intention and faith.
URL:https://gracebk.org/event/confirmation-class-2/2027-12-15/
LOCATION:939 83rd Street\, Brooklyn\, NY 11228
CATEGORIES:Confirmation Class
ATTACH;FMTTYPE=image/png:https://gracebk.org/wp-content/uploads/2025/07/D4.png
ORGANIZER;CN="Grace Lutheran Church of Brooklyn":MAILTO:connect@gracebk.org
END:VEVENT
BEGIN:VEVENT
DTSTART;TZID=America/New_York:20271219T094000
DTEND;TZID=America/New_York:20271219T130000
DTSTAMP:20260421T145618
CREATED:20260322T023407Z
LAST-MODIFIED:20260322T030349Z
UID:10001244-1829209200-1829221200@gracebk.org
SUMMARY:Sunday School (Grades 1–5)
DESCRIPTION:A joyful space where children and youth are invited to explore the Bible through stories\, lessons\, and hands-on activities. Rooted in Lutheran teaching\, each session helps young hearts grow in faith and community.
URL:https://gracebk.org/event/sunday-school/2027-12-19/
LOCATION:939 83rd Street\, Brooklyn\, NY 11228
CATEGORIES:Sunday School
ATTACH;FMTTYPE=image/png:https://gracebk.org/wp-content/uploads/2025/07/D2.png
ORGANIZER;CN="Grace Lutheran Church of Brooklyn":MAILTO:connect@gracebk.org
END:VEVENT
BEGIN:VEVENT
DTSTART;TZID=America/New_York:20271219T103000
DTEND;TZID=America/New_York:20271219T130000
DTSTAMP:20260421T145618
CREATED:20260322T034753Z
LAST-MODIFIED:20260322T041111Z
UID:10002562-1829212200-1829221200@gracebk.org
SUMMARY:Sunday Mass
DESCRIPTION:Join us for worship is the heart of our church life at Grace Lutheran Church Brooklyn. We gather together each Sunday to celebrate God’s grace through a blend of traditional hymns and contemporary worship music\, led by our talented musicians and choir. Music is a powerful way to connect with God\, and we invite all members of the congregation to join in singing\, regardless of musical ability. Our worship services are designed to foster a deep spiritual connection and to inspire all who attend to reflect on God’s word.
URL:https://gracebk.org/event/sunday-mass-4-2/2027-12-19/
LOCATION:939 83rd Street\, Brooklyn\, NY 11228
CATEGORIES:Sunday Mass
ATTACH;FMTTYPE=image/jpeg:https://gracebk.org/wp-content/uploads/2026/02/Sunday-Worship-Service.jpg
ORGANIZER;CN="Grace Lutheran Church of Brooklyn":MAILTO:connect@gracebk.org
END:VEVENT
BEGIN:VEVENT
DTSTART;TZID=America/New_York:20271219T113000
DTEND;TZID=America/New_York:20271219T130000
DTSTAMP:20260421T145618
CREATED:20260322T033832Z
LAST-MODIFIED:20260322T034151Z
UID:10002299-1829215800-1829221200@gracebk.org
SUMMARY:Coffee Hour
DESCRIPTION:Fellowship and refreshments following worship.
URL:https://gracebk.org/event/coffee-hour-2/2027-12-19/
LOCATION:939 83rd Street\, Brooklyn\, NY 11228
CATEGORIES:Coffee Hour
ATTACH;FMTTYPE=image/jpeg:https://gracebk.org/wp-content/uploads/2026/02/631726258_1329460442541900_4547997787373663264_n.jpg
ORGANIZER;CN="Grace Lutheran Church of Brooklyn":MAILTO:connect@gracebk.org
END:VEVENT
BEGIN:VEVENT
DTSTART;TZID=America/New_York:20271222T110000
DTEND;TZID=America/New_York:20271222T130000
DTSTAMP:20260421T145618
CREATED:20260322T030003Z
LAST-MODIFIED:20260322T030003Z
UID:10000973-1829473200-1829480400@gracebk.org
SUMMARY:Hybrid Bible Study (Zoom)
DESCRIPTION:Join us for an open and thoughtful space for adults to gather around God’s Word\, along with the wisdom found in other sacred texts. Through conversation\, study\, and prayer\, we seek a deeper understanding of Scripture and its place in our daily lives. Join us in person at the church or virtually via Zoom\, as Bible Study is offered in a hybrid format to fit your schedule and comfort.
URL:https://gracebk.org/event/hybrid-bible-study-zoom-15-2/2027-12-22/
LOCATION:939 83rd Street\, Brooklyn\, NY 11228
ATTACH;FMTTYPE=image/png:https://gracebk.org/wp-content/uploads/2025/07/D5.png
ORGANIZER;CN="Grace Lutheran Church of Brooklyn":MAILTO:connect@gracebk.org
END:VEVENT
BEGIN:VEVENT
DTSTART;TZID=America/New_York:20271222T173000
DTEND;TZID=America/New_York:20271222T190000
DTSTAMP:20260421T145618
CREATED:20260322T030528Z
LAST-MODIFIED:20260322T030528Z
UID:10000702-1829496600-1829502000@gracebk.org
SUMMARY:Confirmation Class
DESCRIPTION:A time of growth\, questions\, and commitment for middle and high school students\, lasting two years and running from September through June. Together\, we explore what it means to live out our baptismal promises with intention and faith.
URL:https://gracebk.org/event/confirmation-class-2/2027-12-22/
LOCATION:939 83rd Street\, Brooklyn\, NY 11228
CATEGORIES:Confirmation Class
ATTACH;FMTTYPE=image/png:https://gracebk.org/wp-content/uploads/2025/07/D4.png
ORGANIZER;CN="Grace Lutheran Church of Brooklyn":MAILTO:connect@gracebk.org
END:VEVENT
BEGIN:VEVENT
DTSTART;TZID=America/New_York:20271225T183000
DTEND;TZID=America/New_York:20271225T193000
DTSTAMP:20260421T145618
CREATED:20260322T030912Z
LAST-MODIFIED:20260322T030912Z
UID:10000516-1829759400-1829763000@gracebk.org
SUMMARY:Young Adults Gathering (Grades 5-9)
DESCRIPTION:Join us for young adults to connect\, share\, and grow. Each gathering includes Bible study\, meaningful conversation\, service opportunities\, and community-building.
URL:https://gracebk.org/event/young-adults-gathering-7-2/2027-12-25/
LOCATION:939 83rd Street\, Brooklyn\, NY 11228
ATTACH;FMTTYPE=image/png:https://gracebk.org/wp-content/uploads/2025/07/D6.png
ORGANIZER;CN="Grace Lutheran Church of Brooklyn":MAILTO:connect@gracebk.org
END:VEVENT
BEGIN:VEVENT
DTSTART;TZID=America/New_York:20271226T094000
DTEND;TZID=America/New_York:20271226T130000
DTSTAMP:20260421T145618
CREATED:20260322T023407Z
LAST-MODIFIED:20260322T030349Z
UID:10001245-1829814000-1829826000@gracebk.org
SUMMARY:Sunday School (Grades 1–5)
DESCRIPTION:A joyful space where children and youth are invited to explore the Bible through stories\, lessons\, and hands-on activities. Rooted in Lutheran teaching\, each session helps young hearts grow in faith and community.
URL:https://gracebk.org/event/sunday-school/2027-12-26/
LOCATION:939 83rd Street\, Brooklyn\, NY 11228
CATEGORIES:Sunday School
ATTACH;FMTTYPE=image/png:https://gracebk.org/wp-content/uploads/2025/07/D2.png
ORGANIZER;CN="Grace Lutheran Church of Brooklyn":MAILTO:connect@gracebk.org
END:VEVENT
BEGIN:VEVENT
DTSTART;TZID=America/New_York:20271226T103000
DTEND;TZID=America/New_York:20271226T130000
DTSTAMP:20260421T145618
CREATED:20260322T034753Z
LAST-MODIFIED:20260322T041111Z
UID:10002563-1829817000-1829826000@gracebk.org
SUMMARY:Sunday Mass
DESCRIPTION:Join us for worship is the heart of our church life at Grace Lutheran Church Brooklyn. We gather together each Sunday to celebrate God’s grace through a blend of traditional hymns and contemporary worship music\, led by our talented musicians and choir. Music is a powerful way to connect with God\, and we invite all members of the congregation to join in singing\, regardless of musical ability. Our worship services are designed to foster a deep spiritual connection and to inspire all who attend to reflect on God’s word.
URL:https://gracebk.org/event/sunday-mass-4-2/2027-12-26/
LOCATION:939 83rd Street\, Brooklyn\, NY 11228
CATEGORIES:Sunday Mass
ATTACH;FMTTYPE=image/jpeg:https://gracebk.org/wp-content/uploads/2026/02/Sunday-Worship-Service.jpg
ORGANIZER;CN="Grace Lutheran Church of Brooklyn":MAILTO:connect@gracebk.org
END:VEVENT
BEGIN:VEVENT
DTSTART;TZID=America/New_York:20271226T113000
DTEND;TZID=America/New_York:20271226T130000
DTSTAMP:20260421T145618
CREATED:20260322T033832Z
LAST-MODIFIED:20260322T034151Z
UID:10002300-1829820600-1829826000@gracebk.org
SUMMARY:Coffee Hour
DESCRIPTION:Fellowship and refreshments following worship.
URL:https://gracebk.org/event/coffee-hour-2/2027-12-26/
LOCATION:939 83rd Street\, Brooklyn\, NY 11228
CATEGORIES:Coffee Hour
ATTACH;FMTTYPE=image/jpeg:https://gracebk.org/wp-content/uploads/2026/02/631726258_1329460442541900_4547997787373663264_n.jpg
ORGANIZER;CN="Grace Lutheran Church of Brooklyn":MAILTO:connect@gracebk.org
END:VEVENT
BEGIN:VEVENT
DTSTART;TZID=America/New_York:20271229T110000
DTEND;TZID=America/New_York:20271229T130000
DTSTAMP:20260421T145618
CREATED:20260322T030003Z
LAST-MODIFIED:20260322T030003Z
UID:10000974-1830078000-1830085200@gracebk.org
SUMMARY:Hybrid Bible Study (Zoom)
DESCRIPTION:Join us for an open and thoughtful space for adults to gather around God’s Word\, along with the wisdom found in other sacred texts. Through conversation\, study\, and prayer\, we seek a deeper understanding of Scripture and its place in our daily lives. Join us in person at the church or virtually via Zoom\, as Bible Study is offered in a hybrid format to fit your schedule and comfort.
URL:https://gracebk.org/event/hybrid-bible-study-zoom-15-2/2027-12-29/
LOCATION:939 83rd Street\, Brooklyn\, NY 11228
ATTACH;FMTTYPE=image/png:https://gracebk.org/wp-content/uploads/2025/07/D5.png
ORGANIZER;CN="Grace Lutheran Church of Brooklyn":MAILTO:connect@gracebk.org
END:VEVENT
BEGIN:VEVENT
DTSTART;TZID=America/New_York:20271229T173000
DTEND;TZID=America/New_York:20271229T190000
DTSTAMP:20260421T145618
CREATED:20260322T030528Z
LAST-MODIFIED:20260322T030528Z
UID:10000703-1830101400-1830106800@gracebk.org
SUMMARY:Confirmation Class
DESCRIPTION:A time of growth\, questions\, and commitment for middle and high school students\, lasting two years and running from September through June. Together\, we explore what it means to live out our baptismal promises with intention and faith.
URL:https://gracebk.org/event/confirmation-class-2/2027-12-29/
LOCATION:939 83rd Street\, Brooklyn\, NY 11228
CATEGORIES:Confirmation Class
ATTACH;FMTTYPE=image/png:https://gracebk.org/wp-content/uploads/2025/07/D4.png
ORGANIZER;CN="Grace Lutheran Church of Brooklyn":MAILTO:connect@gracebk.org
END:VEVENT
BEGIN:VEVENT
DTSTART;TZID=America/New_York:20280102T094000
DTEND;TZID=America/New_York:20280102T130000
DTSTAMP:20260421T145618
CREATED:20260322T023407Z
LAST-MODIFIED:20260322T030349Z
UID:10001246-1830418800-1830430800@gracebk.org
SUMMARY:Sunday School (Grades 1–5)
DESCRIPTION:A joyful space where children and youth are invited to explore the Bible through stories\, lessons\, and hands-on activities. Rooted in Lutheran teaching\, each session helps young hearts grow in faith and community.
URL:https://gracebk.org/event/sunday-school/2028-01-02/
LOCATION:939 83rd Street\, Brooklyn\, NY 11228
CATEGORIES:Sunday School
ATTACH;FMTTYPE=image/png:https://gracebk.org/wp-content/uploads/2025/07/D2.png
ORGANIZER;CN="Grace Lutheran Church of Brooklyn":MAILTO:connect@gracebk.org
END:VEVENT
BEGIN:VEVENT
DTSTART;TZID=America/New_York:20280102T103000
DTEND;TZID=America/New_York:20280102T130000
DTSTAMP:20260421T145618
CREATED:20260322T034753Z
LAST-MODIFIED:20260322T041111Z
UID:10002564-1830421800-1830430800@gracebk.org
SUMMARY:Sunday Mass
DESCRIPTION:Join us for worship is the heart of our church life at Grace Lutheran Church Brooklyn. We gather together each Sunday to celebrate God’s grace through a blend of traditional hymns and contemporary worship music\, led by our talented musicians and choir. Music is a powerful way to connect with God\, and we invite all members of the congregation to join in singing\, regardless of musical ability. Our worship services are designed to foster a deep spiritual connection and to inspire all who attend to reflect on God’s word.
URL:https://gracebk.org/event/sunday-mass-4-2/2028-01-02/
LOCATION:939 83rd Street\, Brooklyn\, NY 11228
CATEGORIES:Sunday Mass
ATTACH;FMTTYPE=image/jpeg:https://gracebk.org/wp-content/uploads/2026/02/Sunday-Worship-Service.jpg
ORGANIZER;CN="Grace Lutheran Church of Brooklyn":MAILTO:connect@gracebk.org
END:VEVENT
BEGIN:VEVENT
DTSTART;TZID=America/New_York:20280102T113000
DTEND;TZID=America/New_York:20280102T130000
DTSTAMP:20260421T145618
CREATED:20260322T033832Z
LAST-MODIFIED:20260322T034151Z
UID:10002301-1830425400-1830430800@gracebk.org
SUMMARY:Coffee Hour
DESCRIPTION:Fellowship and refreshments following worship.
URL:https://gracebk.org/event/coffee-hour-2/2028-01-02/
LOCATION:939 83rd Street\, Brooklyn\, NY 11228
CATEGORIES:Coffee Hour
ATTACH;FMTTYPE=image/jpeg:https://gracebk.org/wp-content/uploads/2026/02/631726258_1329460442541900_4547997787373663264_n.jpg
ORGANIZER;CN="Grace Lutheran Church of Brooklyn":MAILTO:connect@gracebk.org
END:VEVENT
END:VCALENDAR