BEGIN:VCALENDAR
VERSION:2.0
PRODID:-//Grace Lutheran Church Brooklyn - ECPv6.15.20//NONSGML v1.0//EN
CALSCALE:GREGORIAN
METHOD:PUBLISH
X-ORIGINAL-URL:https://gracebk.org
X-WR-CALDESC:Events for Grace Lutheran Church Brooklyn
REFRESH-INTERVAL;VALUE=DURATION:PT1H
X-Robots-Tag:noindex
X-PUBLISHED-TTL:PT1H
BEGIN:VTIMEZONE
TZID:America/New_York
BEGIN:DAYLIGHT
TZOFFSETFROM:-0500
TZOFFSETTO:-0400
TZNAME:EDT
DTSTART:20280312T070000
END:DAYLIGHT
BEGIN:STANDARD
TZOFFSETFROM:-0400
TZOFFSETTO:-0500
TZNAME:EST
DTSTART:20281105T060000
END:STANDARD
BEGIN:DAYLIGHT
TZOFFSETFROM:-0500
TZOFFSETTO:-0400
TZNAME:EDT
DTSTART:20290311T070000
END:DAYLIGHT
BEGIN:STANDARD
TZOFFSETFROM:-0400
TZOFFSETTO:-0500
TZNAME:EST
DTSTART:20291104T060000
END:STANDARD
BEGIN:DAYLIGHT
TZOFFSETFROM:-0500
TZOFFSETTO:-0400
TZNAME:EDT
DTSTART:20300310T070000
END:DAYLIGHT
BEGIN:STANDARD
TZOFFSETFROM:-0400
TZOFFSETTO:-0500
TZNAME:EST
DTSTART:20301103T060000
END:STANDARD
END:VTIMEZONE
BEGIN:VEVENT
DTSTART;TZID=America/New_York:20290729T113000
DTEND;TZID=America/New_York:20290729T130000
DTSTAMP:20260425T072145
CREATED:20260322T033832Z
LAST-MODIFIED:20260322T034151Z
UID:10002383-1880019000-1880024400@gracebk.org
SUMMARY:Coffee Hour
DESCRIPTION:Fellowship and refreshments following worship.
URL:https://gracebk.org/event/coffee-hour-2/2029-07-29/
LOCATION:939 83rd Street\, Brooklyn\, NY 11228
CATEGORIES:Coffee Hour
ATTACH;FMTTYPE=image/jpeg:https://gracebk.org/wp-content/uploads/2026/02/631726258_1329460442541900_4547997787373663264_n.jpg
ORGANIZER;CN="Grace Lutheran Church of Brooklyn":MAILTO:connect@gracebk.org
END:VEVENT
BEGIN:VEVENT
DTSTART;TZID=America/New_York:20290801T110000
DTEND;TZID=America/New_York:20290801T130000
DTSTAMP:20260425T072145
CREATED:20260322T030003Z
LAST-MODIFIED:20260322T030003Z
UID:10001057-1880276400-1880283600@gracebk.org
SUMMARY:Hybrid Bible Study (Zoom)
DESCRIPTION:Join us for an open and thoughtful space for adults to gather around God’s Word\, along with the wisdom found in other sacred texts. Through conversation\, study\, and prayer\, we seek a deeper understanding of Scripture and its place in our daily lives. Join us in person at the church or virtually via Zoom\, as Bible Study is offered in a hybrid format to fit your schedule and comfort.
URL:https://gracebk.org/event/hybrid-bible-study-zoom-15-2/2029-08-01/
LOCATION:939 83rd Street\, Brooklyn\, NY 11228
ATTACH;FMTTYPE=image/png:https://gracebk.org/wp-content/uploads/2025/07/D5.png
ORGANIZER;CN="Grace Lutheran Church of Brooklyn":MAILTO:connect@gracebk.org
END:VEVENT
BEGIN:VEVENT
DTSTART;TZID=America/New_York:20290801T173000
DTEND;TZID=America/New_York:20290801T190000
DTSTAMP:20260425T072145
CREATED:20260322T030528Z
LAST-MODIFIED:20260322T030528Z
UID:10000786-1880299800-1880305200@gracebk.org
SUMMARY:Confirmation Class
DESCRIPTION:A time of growth\, questions\, and commitment for middle and high school students\, lasting two years and running from September through June. Together\, we explore what it means to live out our baptismal promises with intention and faith.
URL:https://gracebk.org/event/confirmation-class-2/2029-08-01/
LOCATION:939 83rd Street\, Brooklyn\, NY 11228
CATEGORIES:Confirmation Class
ATTACH;FMTTYPE=image/png:https://gracebk.org/wp-content/uploads/2025/07/D4.png
ORGANIZER;CN="Grace Lutheran Church of Brooklyn":MAILTO:connect@gracebk.org
END:VEVENT
BEGIN:VEVENT
DTSTART;TZID=America/New_York:20290804T183000
DTEND;TZID=America/New_York:20290804T193000
DTSTAMP:20260425T072145
CREATED:20260322T030912Z
LAST-MODIFIED:20260322T030912Z
UID:10000558-1880562600-1880566200@gracebk.org
SUMMARY:Young Adults Gathering (Grades 5-9)
DESCRIPTION:Join us for young adults to connect\, share\, and grow. Each gathering includes Bible study\, meaningful conversation\, service opportunities\, and community-building.
URL:https://gracebk.org/event/young-adults-gathering-7-2/2029-08-04/
LOCATION:939 83rd Street\, Brooklyn\, NY 11228
ATTACH;FMTTYPE=image/png:https://gracebk.org/wp-content/uploads/2025/07/D6.png
ORGANIZER;CN="Grace Lutheran Church of Brooklyn":MAILTO:connect@gracebk.org
END:VEVENT
BEGIN:VEVENT
DTSTART;TZID=America/New_York:20290805T094000
DTEND;TZID=America/New_York:20290805T130000
DTSTAMP:20260425T072145
CREATED:20260322T023407Z
LAST-MODIFIED:20260322T030349Z
UID:10001329-1880617200-1880629200@gracebk.org
SUMMARY:Sunday School (Grades 1–5)
DESCRIPTION:A joyful space where children and youth are invited to explore the Bible through stories\, lessons\, and hands-on activities. Rooted in Lutheran teaching\, each session helps young hearts grow in faith and community.
URL:https://gracebk.org/event/sunday-school/2029-08-05/
LOCATION:939 83rd Street\, Brooklyn\, NY 11228
CATEGORIES:Sunday School
ATTACH;FMTTYPE=image/png:https://gracebk.org/wp-content/uploads/2025/07/D2.png
ORGANIZER;CN="Grace Lutheran Church of Brooklyn":MAILTO:connect@gracebk.org
END:VEVENT
BEGIN:VEVENT
DTSTART;TZID=America/New_York:20290805T103000
DTEND;TZID=America/New_York:20290805T130000
DTSTAMP:20260425T072145
CREATED:20260322T034753Z
LAST-MODIFIED:20260322T041111Z
UID:10002647-1880620200-1880629200@gracebk.org
SUMMARY:Sunday Mass
DESCRIPTION:Join us for worship is the heart of our church life at Grace Lutheran Church Brooklyn. We gather together each Sunday to celebrate God’s grace through a blend of traditional hymns and contemporary worship music\, led by our talented musicians and choir. Music is a powerful way to connect with God\, and we invite all members of the congregation to join in singing\, regardless of musical ability. Our worship services are designed to foster a deep spiritual connection and to inspire all who attend to reflect on God’s word.
URL:https://gracebk.org/event/sunday-mass-4-2/2029-08-05/
LOCATION:939 83rd Street\, Brooklyn\, NY 11228
CATEGORIES:Sunday Mass
ATTACH;FMTTYPE=image/jpeg:https://gracebk.org/wp-content/uploads/2026/02/Sunday-Worship-Service.jpg
ORGANIZER;CN="Grace Lutheran Church of Brooklyn":MAILTO:connect@gracebk.org
END:VEVENT
BEGIN:VEVENT
DTSTART;TZID=America/New_York:20290805T113000
DTEND;TZID=America/New_York:20290805T130000
DTSTAMP:20260425T072145
CREATED:20260322T033832Z
LAST-MODIFIED:20260322T034151Z
UID:10002384-1880623800-1880629200@gracebk.org
SUMMARY:Coffee Hour
DESCRIPTION:Fellowship and refreshments following worship.
URL:https://gracebk.org/event/coffee-hour-2/2029-08-05/
LOCATION:939 83rd Street\, Brooklyn\, NY 11228
CATEGORIES:Coffee Hour
ATTACH;FMTTYPE=image/jpeg:https://gracebk.org/wp-content/uploads/2026/02/631726258_1329460442541900_4547997787373663264_n.jpg
ORGANIZER;CN="Grace Lutheran Church of Brooklyn":MAILTO:connect@gracebk.org
END:VEVENT
BEGIN:VEVENT
DTSTART;TZID=America/New_York:20290808T110000
DTEND;TZID=America/New_York:20290808T130000
DTSTAMP:20260425T072145
CREATED:20260322T030003Z
LAST-MODIFIED:20260322T030003Z
UID:10001058-1880881200-1880888400@gracebk.org
SUMMARY:Hybrid Bible Study (Zoom)
DESCRIPTION:Join us for an open and thoughtful space for adults to gather around God’s Word\, along with the wisdom found in other sacred texts. Through conversation\, study\, and prayer\, we seek a deeper understanding of Scripture and its place in our daily lives. Join us in person at the church or virtually via Zoom\, as Bible Study is offered in a hybrid format to fit your schedule and comfort.
URL:https://gracebk.org/event/hybrid-bible-study-zoom-15-2/2029-08-08/
LOCATION:939 83rd Street\, Brooklyn\, NY 11228
ATTACH;FMTTYPE=image/png:https://gracebk.org/wp-content/uploads/2025/07/D5.png
ORGANIZER;CN="Grace Lutheran Church of Brooklyn":MAILTO:connect@gracebk.org
END:VEVENT
BEGIN:VEVENT
DTSTART;TZID=America/New_York:20290808T173000
DTEND;TZID=America/New_York:20290808T190000
DTSTAMP:20260425T072145
CREATED:20260322T030528Z
LAST-MODIFIED:20260322T030528Z
UID:10000787-1880904600-1880910000@gracebk.org
SUMMARY:Confirmation Class
DESCRIPTION:A time of growth\, questions\, and commitment for middle and high school students\, lasting two years and running from September through June. Together\, we explore what it means to live out our baptismal promises with intention and faith.
URL:https://gracebk.org/event/confirmation-class-2/2029-08-08/
LOCATION:939 83rd Street\, Brooklyn\, NY 11228
CATEGORIES:Confirmation Class
ATTACH;FMTTYPE=image/png:https://gracebk.org/wp-content/uploads/2025/07/D4.png
ORGANIZER;CN="Grace Lutheran Church of Brooklyn":MAILTO:connect@gracebk.org
END:VEVENT
BEGIN:VEVENT
DTSTART;TZID=America/New_York:20290812T094000
DTEND;TZID=America/New_York:20290812T130000
DTSTAMP:20260425T072145
CREATED:20260322T023407Z
LAST-MODIFIED:20260322T030349Z
UID:10001330-1881222000-1881234000@gracebk.org
SUMMARY:Sunday School (Grades 1–5)
DESCRIPTION:A joyful space where children and youth are invited to explore the Bible through stories\, lessons\, and hands-on activities. Rooted in Lutheran teaching\, each session helps young hearts grow in faith and community.
URL:https://gracebk.org/event/sunday-school/2029-08-12/
LOCATION:939 83rd Street\, Brooklyn\, NY 11228
CATEGORIES:Sunday School
ATTACH;FMTTYPE=image/png:https://gracebk.org/wp-content/uploads/2025/07/D2.png
ORGANIZER;CN="Grace Lutheran Church of Brooklyn":MAILTO:connect@gracebk.org
END:VEVENT
BEGIN:VEVENT
DTSTART;TZID=America/New_York:20290812T103000
DTEND;TZID=America/New_York:20290812T130000
DTSTAMP:20260425T072145
CREATED:20260322T034753Z
LAST-MODIFIED:20260322T041111Z
UID:10002648-1881225000-1881234000@gracebk.org
SUMMARY:Sunday Mass
DESCRIPTION:Join us for worship is the heart of our church life at Grace Lutheran Church Brooklyn. We gather together each Sunday to celebrate God’s grace through a blend of traditional hymns and contemporary worship music\, led by our talented musicians and choir. Music is a powerful way to connect with God\, and we invite all members of the congregation to join in singing\, regardless of musical ability. Our worship services are designed to foster a deep spiritual connection and to inspire all who attend to reflect on God’s word.
URL:https://gracebk.org/event/sunday-mass-4-2/2029-08-12/
LOCATION:939 83rd Street\, Brooklyn\, NY 11228
CATEGORIES:Sunday Mass
ATTACH;FMTTYPE=image/jpeg:https://gracebk.org/wp-content/uploads/2026/02/Sunday-Worship-Service.jpg
ORGANIZER;CN="Grace Lutheran Church of Brooklyn":MAILTO:connect@gracebk.org
END:VEVENT
BEGIN:VEVENT
DTSTART;TZID=America/New_York:20290812T113000
DTEND;TZID=America/New_York:20290812T130000
DTSTAMP:20260425T072145
CREATED:20260322T033832Z
LAST-MODIFIED:20260322T034151Z
UID:10002385-1881228600-1881234000@gracebk.org
SUMMARY:Coffee Hour
DESCRIPTION:Fellowship and refreshments following worship.
URL:https://gracebk.org/event/coffee-hour-2/2029-08-12/
LOCATION:939 83rd Street\, Brooklyn\, NY 11228
CATEGORIES:Coffee Hour
ATTACH;FMTTYPE=image/jpeg:https://gracebk.org/wp-content/uploads/2026/02/631726258_1329460442541900_4547997787373663264_n.jpg
ORGANIZER;CN="Grace Lutheran Church of Brooklyn":MAILTO:connect@gracebk.org
END:VEVENT
BEGIN:VEVENT
DTSTART;TZID=America/New_York:20290815T110000
DTEND;TZID=America/New_York:20290815T130000
DTSTAMP:20260425T072145
CREATED:20260322T030003Z
LAST-MODIFIED:20260322T030003Z
UID:10001059-1881486000-1881493200@gracebk.org
SUMMARY:Hybrid Bible Study (Zoom)
DESCRIPTION:Join us for an open and thoughtful space for adults to gather around God’s Word\, along with the wisdom found in other sacred texts. Through conversation\, study\, and prayer\, we seek a deeper understanding of Scripture and its place in our daily lives. Join us in person at the church or virtually via Zoom\, as Bible Study is offered in a hybrid format to fit your schedule and comfort.
URL:https://gracebk.org/event/hybrid-bible-study-zoom-15-2/2029-08-15/
LOCATION:939 83rd Street\, Brooklyn\, NY 11228
ATTACH;FMTTYPE=image/png:https://gracebk.org/wp-content/uploads/2025/07/D5.png
ORGANIZER;CN="Grace Lutheran Church of Brooklyn":MAILTO:connect@gracebk.org
END:VEVENT
BEGIN:VEVENT
DTSTART;TZID=America/New_York:20290815T173000
DTEND;TZID=America/New_York:20290815T190000
DTSTAMP:20260425T072145
CREATED:20260322T030528Z
LAST-MODIFIED:20260322T030528Z
UID:10000788-1881509400-1881514800@gracebk.org
SUMMARY:Confirmation Class
DESCRIPTION:A time of growth\, questions\, and commitment for middle and high school students\, lasting two years and running from September through June. Together\, we explore what it means to live out our baptismal promises with intention and faith.
URL:https://gracebk.org/event/confirmation-class-2/2029-08-15/
LOCATION:939 83rd Street\, Brooklyn\, NY 11228
CATEGORIES:Confirmation Class
ATTACH;FMTTYPE=image/png:https://gracebk.org/wp-content/uploads/2025/07/D4.png
ORGANIZER;CN="Grace Lutheran Church of Brooklyn":MAILTO:connect@gracebk.org
END:VEVENT
BEGIN:VEVENT
DTSTART;TZID=America/New_York:20290818T183000
DTEND;TZID=America/New_York:20290818T193000
DTSTAMP:20260425T072145
CREATED:20260322T030912Z
LAST-MODIFIED:20260322T030912Z
UID:10000559-1881772200-1881775800@gracebk.org
SUMMARY:Young Adults Gathering (Grades 5-9)
DESCRIPTION:Join us for young adults to connect\, share\, and grow. Each gathering includes Bible study\, meaningful conversation\, service opportunities\, and community-building.
URL:https://gracebk.org/event/young-adults-gathering-7-2/2029-08-18/
LOCATION:939 83rd Street\, Brooklyn\, NY 11228
ATTACH;FMTTYPE=image/png:https://gracebk.org/wp-content/uploads/2025/07/D6.png
ORGANIZER;CN="Grace Lutheran Church of Brooklyn":MAILTO:connect@gracebk.org
END:VEVENT
BEGIN:VEVENT
DTSTART;TZID=America/New_York:20290819T094000
DTEND;TZID=America/New_York:20290819T130000
DTSTAMP:20260425T072145
CREATED:20260322T023407Z
LAST-MODIFIED:20260322T030349Z
UID:10001331-1881826800-1881838800@gracebk.org
SUMMARY:Sunday School (Grades 1–5)
DESCRIPTION:A joyful space where children and youth are invited to explore the Bible through stories\, lessons\, and hands-on activities. Rooted in Lutheran teaching\, each session helps young hearts grow in faith and community.
URL:https://gracebk.org/event/sunday-school/2029-08-19/
LOCATION:939 83rd Street\, Brooklyn\, NY 11228
CATEGORIES:Sunday School
ATTACH;FMTTYPE=image/png:https://gracebk.org/wp-content/uploads/2025/07/D2.png
ORGANIZER;CN="Grace Lutheran Church of Brooklyn":MAILTO:connect@gracebk.org
END:VEVENT
BEGIN:VEVENT
DTSTART;TZID=America/New_York:20290819T103000
DTEND;TZID=America/New_York:20290819T130000
DTSTAMP:20260425T072145
CREATED:20260322T034753Z
LAST-MODIFIED:20260322T041111Z
UID:10002649-1881829800-1881838800@gracebk.org
SUMMARY:Sunday Mass
DESCRIPTION:Join us for worship is the heart of our church life at Grace Lutheran Church Brooklyn. We gather together each Sunday to celebrate God’s grace through a blend of traditional hymns and contemporary worship music\, led by our talented musicians and choir. Music is a powerful way to connect with God\, and we invite all members of the congregation to join in singing\, regardless of musical ability. Our worship services are designed to foster a deep spiritual connection and to inspire all who attend to reflect on God’s word.
URL:https://gracebk.org/event/sunday-mass-4-2/2029-08-19/
LOCATION:939 83rd Street\, Brooklyn\, NY 11228
CATEGORIES:Sunday Mass
ATTACH;FMTTYPE=image/jpeg:https://gracebk.org/wp-content/uploads/2026/02/Sunday-Worship-Service.jpg
ORGANIZER;CN="Grace Lutheran Church of Brooklyn":MAILTO:connect@gracebk.org
END:VEVENT
BEGIN:VEVENT
DTSTART;TZID=America/New_York:20290819T113000
DTEND;TZID=America/New_York:20290819T130000
DTSTAMP:20260425T072145
CREATED:20260322T033832Z
LAST-MODIFIED:20260322T034151Z
UID:10002386-1881833400-1881838800@gracebk.org
SUMMARY:Coffee Hour
DESCRIPTION:Fellowship and refreshments following worship.
URL:https://gracebk.org/event/coffee-hour-2/2029-08-19/
LOCATION:939 83rd Street\, Brooklyn\, NY 11228
CATEGORIES:Coffee Hour
ATTACH;FMTTYPE=image/jpeg:https://gracebk.org/wp-content/uploads/2026/02/631726258_1329460442541900_4547997787373663264_n.jpg
ORGANIZER;CN="Grace Lutheran Church of Brooklyn":MAILTO:connect@gracebk.org
END:VEVENT
BEGIN:VEVENT
DTSTART;TZID=America/New_York:20290822T110000
DTEND;TZID=America/New_York:20290822T130000
DTSTAMP:20260425T072145
CREATED:20260322T030003Z
LAST-MODIFIED:20260322T030003Z
UID:10001060-1882090800-1882098000@gracebk.org
SUMMARY:Hybrid Bible Study (Zoom)
DESCRIPTION:Join us for an open and thoughtful space for adults to gather around God’s Word\, along with the wisdom found in other sacred texts. Through conversation\, study\, and prayer\, we seek a deeper understanding of Scripture and its place in our daily lives. Join us in person at the church or virtually via Zoom\, as Bible Study is offered in a hybrid format to fit your schedule and comfort.
URL:https://gracebk.org/event/hybrid-bible-study-zoom-15-2/2029-08-22/
LOCATION:939 83rd Street\, Brooklyn\, NY 11228
ATTACH;FMTTYPE=image/png:https://gracebk.org/wp-content/uploads/2025/07/D5.png
ORGANIZER;CN="Grace Lutheran Church of Brooklyn":MAILTO:connect@gracebk.org
END:VEVENT
BEGIN:VEVENT
DTSTART;TZID=America/New_York:20290822T173000
DTEND;TZID=America/New_York:20290822T190000
DTSTAMP:20260425T072145
CREATED:20260322T030528Z
LAST-MODIFIED:20260322T030528Z
UID:10000789-1882114200-1882119600@gracebk.org
SUMMARY:Confirmation Class
DESCRIPTION:A time of growth\, questions\, and commitment for middle and high school students\, lasting two years and running from September through June. Together\, we explore what it means to live out our baptismal promises with intention and faith.
URL:https://gracebk.org/event/confirmation-class-2/2029-08-22/
LOCATION:939 83rd Street\, Brooklyn\, NY 11228
CATEGORIES:Confirmation Class
ATTACH;FMTTYPE=image/png:https://gracebk.org/wp-content/uploads/2025/07/D4.png
ORGANIZER;CN="Grace Lutheran Church of Brooklyn":MAILTO:connect@gracebk.org
END:VEVENT
BEGIN:VEVENT
DTSTART;TZID=America/New_York:20290826T094000
DTEND;TZID=America/New_York:20290826T130000
DTSTAMP:20260425T072145
CREATED:20260322T023407Z
LAST-MODIFIED:20260322T030349Z
UID:10001332-1882431600-1882443600@gracebk.org
SUMMARY:Sunday School (Grades 1–5)
DESCRIPTION:A joyful space where children and youth are invited to explore the Bible through stories\, lessons\, and hands-on activities. Rooted in Lutheran teaching\, each session helps young hearts grow in faith and community.
URL:https://gracebk.org/event/sunday-school/2029-08-26/
LOCATION:939 83rd Street\, Brooklyn\, NY 11228
CATEGORIES:Sunday School
ATTACH;FMTTYPE=image/png:https://gracebk.org/wp-content/uploads/2025/07/D2.png
ORGANIZER;CN="Grace Lutheran Church of Brooklyn":MAILTO:connect@gracebk.org
END:VEVENT
BEGIN:VEVENT
DTSTART;TZID=America/New_York:20290826T103000
DTEND;TZID=America/New_York:20290826T130000
DTSTAMP:20260425T072145
CREATED:20260322T034753Z
LAST-MODIFIED:20260322T041111Z
UID:10002650-1882434600-1882443600@gracebk.org
SUMMARY:Sunday Mass
DESCRIPTION:Join us for worship is the heart of our church life at Grace Lutheran Church Brooklyn. We gather together each Sunday to celebrate God’s grace through a blend of traditional hymns and contemporary worship music\, led by our talented musicians and choir. Music is a powerful way to connect with God\, and we invite all members of the congregation to join in singing\, regardless of musical ability. Our worship services are designed to foster a deep spiritual connection and to inspire all who attend to reflect on God’s word.
URL:https://gracebk.org/event/sunday-mass-4-2/2029-08-26/
LOCATION:939 83rd Street\, Brooklyn\, NY 11228
CATEGORIES:Sunday Mass
ATTACH;FMTTYPE=image/jpeg:https://gracebk.org/wp-content/uploads/2026/02/Sunday-Worship-Service.jpg
ORGANIZER;CN="Grace Lutheran Church of Brooklyn":MAILTO:connect@gracebk.org
END:VEVENT
BEGIN:VEVENT
DTSTART;TZID=America/New_York:20290826T113000
DTEND;TZID=America/New_York:20290826T130000
DTSTAMP:20260425T072145
CREATED:20260322T033832Z
LAST-MODIFIED:20260322T034151Z
UID:10002387-1882438200-1882443600@gracebk.org
SUMMARY:Coffee Hour
DESCRIPTION:Fellowship and refreshments following worship.
URL:https://gracebk.org/event/coffee-hour-2/2029-08-26/
LOCATION:939 83rd Street\, Brooklyn\, NY 11228
CATEGORIES:Coffee Hour
ATTACH;FMTTYPE=image/jpeg:https://gracebk.org/wp-content/uploads/2026/02/631726258_1329460442541900_4547997787373663264_n.jpg
ORGANIZER;CN="Grace Lutheran Church of Brooklyn":MAILTO:connect@gracebk.org
END:VEVENT
BEGIN:VEVENT
DTSTART;TZID=America/New_York:20290829T110000
DTEND;TZID=America/New_York:20290829T130000
DTSTAMP:20260425T072145
CREATED:20260322T030003Z
LAST-MODIFIED:20260322T030003Z
UID:10001061-1882695600-1882702800@gracebk.org
SUMMARY:Hybrid Bible Study (Zoom)
DESCRIPTION:Join us for an open and thoughtful space for adults to gather around God’s Word\, along with the wisdom found in other sacred texts. Through conversation\, study\, and prayer\, we seek a deeper understanding of Scripture and its place in our daily lives. Join us in person at the church or virtually via Zoom\, as Bible Study is offered in a hybrid format to fit your schedule and comfort.
URL:https://gracebk.org/event/hybrid-bible-study-zoom-15-2/2029-08-29/
LOCATION:939 83rd Street\, Brooklyn\, NY 11228
ATTACH;FMTTYPE=image/png:https://gracebk.org/wp-content/uploads/2025/07/D5.png
ORGANIZER;CN="Grace Lutheran Church of Brooklyn":MAILTO:connect@gracebk.org
END:VEVENT
BEGIN:VEVENT
DTSTART;TZID=America/New_York:20290829T173000
DTEND;TZID=America/New_York:20290829T190000
DTSTAMP:20260425T072145
CREATED:20260322T030528Z
LAST-MODIFIED:20260322T030528Z
UID:10000790-1882719000-1882724400@gracebk.org
SUMMARY:Confirmation Class
DESCRIPTION:A time of growth\, questions\, and commitment for middle and high school students\, lasting two years and running from September through June. Together\, we explore what it means to live out our baptismal promises with intention and faith.
URL:https://gracebk.org/event/confirmation-class-2/2029-08-29/
LOCATION:939 83rd Street\, Brooklyn\, NY 11228
CATEGORIES:Confirmation Class
ATTACH;FMTTYPE=image/png:https://gracebk.org/wp-content/uploads/2025/07/D4.png
ORGANIZER;CN="Grace Lutheran Church of Brooklyn":MAILTO:connect@gracebk.org
END:VEVENT
BEGIN:VEVENT
DTSTART;TZID=America/New_York:20290901T183000
DTEND;TZID=America/New_York:20290901T193000
DTSTAMP:20260425T072145
CREATED:20260322T030912Z
LAST-MODIFIED:20260322T030912Z
UID:10000560-1882981800-1882985400@gracebk.org
SUMMARY:Young Adults Gathering (Grades 5-9)
DESCRIPTION:Join us for young adults to connect\, share\, and grow. Each gathering includes Bible study\, meaningful conversation\, service opportunities\, and community-building.
URL:https://gracebk.org/event/young-adults-gathering-7-2/2029-09-01/
LOCATION:939 83rd Street\, Brooklyn\, NY 11228
ATTACH;FMTTYPE=image/png:https://gracebk.org/wp-content/uploads/2025/07/D6.png
ORGANIZER;CN="Grace Lutheran Church of Brooklyn":MAILTO:connect@gracebk.org
END:VEVENT
BEGIN:VEVENT
DTSTART;TZID=America/New_York:20290902T094000
DTEND;TZID=America/New_York:20290902T130000
DTSTAMP:20260425T072145
CREATED:20260322T023407Z
LAST-MODIFIED:20260322T030349Z
UID:10001333-1883036400-1883048400@gracebk.org
SUMMARY:Sunday School (Grades 1–5)
DESCRIPTION:A joyful space where children and youth are invited to explore the Bible through stories\, lessons\, and hands-on activities. Rooted in Lutheran teaching\, each session helps young hearts grow in faith and community.
URL:https://gracebk.org/event/sunday-school/2029-09-02/
LOCATION:939 83rd Street\, Brooklyn\, NY 11228
CATEGORIES:Sunday School
ATTACH;FMTTYPE=image/png:https://gracebk.org/wp-content/uploads/2025/07/D2.png
ORGANIZER;CN="Grace Lutheran Church of Brooklyn":MAILTO:connect@gracebk.org
END:VEVENT
BEGIN:VEVENT
DTSTART;TZID=America/New_York:20290902T103000
DTEND;TZID=America/New_York:20290902T130000
DTSTAMP:20260425T072145
CREATED:20260322T034753Z
LAST-MODIFIED:20260322T041111Z
UID:10002651-1883039400-1883048400@gracebk.org
SUMMARY:Sunday Mass
DESCRIPTION:Join us for worship is the heart of our church life at Grace Lutheran Church Brooklyn. We gather together each Sunday to celebrate God’s grace through a blend of traditional hymns and contemporary worship music\, led by our talented musicians and choir. Music is a powerful way to connect with God\, and we invite all members of the congregation to join in singing\, regardless of musical ability. Our worship services are designed to foster a deep spiritual connection and to inspire all who attend to reflect on God’s word.
URL:https://gracebk.org/event/sunday-mass-4-2/2029-09-02/
LOCATION:939 83rd Street\, Brooklyn\, NY 11228
CATEGORIES:Sunday Mass
ATTACH;FMTTYPE=image/jpeg:https://gracebk.org/wp-content/uploads/2026/02/Sunday-Worship-Service.jpg
ORGANIZER;CN="Grace Lutheran Church of Brooklyn":MAILTO:connect@gracebk.org
END:VEVENT
BEGIN:VEVENT
DTSTART;TZID=America/New_York:20290902T113000
DTEND;TZID=America/New_York:20290902T130000
DTSTAMP:20260425T072145
CREATED:20260322T033832Z
LAST-MODIFIED:20260322T034151Z
UID:10002388-1883043000-1883048400@gracebk.org
SUMMARY:Coffee Hour
DESCRIPTION:Fellowship and refreshments following worship.
URL:https://gracebk.org/event/coffee-hour-2/2029-09-02/
LOCATION:939 83rd Street\, Brooklyn\, NY 11228
CATEGORIES:Coffee Hour
ATTACH;FMTTYPE=image/jpeg:https://gracebk.org/wp-content/uploads/2026/02/631726258_1329460442541900_4547997787373663264_n.jpg
ORGANIZER;CN="Grace Lutheran Church of Brooklyn":MAILTO:connect@gracebk.org
END:VEVENT
BEGIN:VEVENT
DTSTART;TZID=America/New_York:20290905T110000
DTEND;TZID=America/New_York:20290905T130000
DTSTAMP:20260425T072145
CREATED:20260322T030003Z
LAST-MODIFIED:20260322T030003Z
UID:10001062-1883300400-1883307600@gracebk.org
SUMMARY:Hybrid Bible Study (Zoom)
DESCRIPTION:Join us for an open and thoughtful space for adults to gather around God’s Word\, along with the wisdom found in other sacred texts. Through conversation\, study\, and prayer\, we seek a deeper understanding of Scripture and its place in our daily lives. Join us in person at the church or virtually via Zoom\, as Bible Study is offered in a hybrid format to fit your schedule and comfort.
URL:https://gracebk.org/event/hybrid-bible-study-zoom-15-2/2029-09-05/
LOCATION:939 83rd Street\, Brooklyn\, NY 11228
ATTACH;FMTTYPE=image/png:https://gracebk.org/wp-content/uploads/2025/07/D5.png
ORGANIZER;CN="Grace Lutheran Church of Brooklyn":MAILTO:connect@gracebk.org
END:VEVENT
END:VCALENDAR